BEGIN:VCALENDAR
VERSION:2.0
PRODID:-//Minto Memorial High School - ECPv6.15.20//NONSGML v1.0//EN
CALSCALE:GREGORIAN
METHOD:PUBLISH
X-WR-CALNAME:Minto Memorial High School
X-ORIGINAL-URL:https://mintomemorial.nbed.ca
X-WR-CALDESC:Events for Minto Memorial High School
REFRESH-INTERVAL;VALUE=DURATION:PT1H
X-Robots-Tag:noindex
X-PUBLISHED-TTL:PT1H
BEGIN:VTIMEZONE
TZID:America/Halifax
BEGIN:DAYLIGHT
TZOFFSETFROM:-0400
TZOFFSETTO:-0300
TZNAME:ADT
DTSTART:20210314T060000
END:DAYLIGHT
BEGIN:STANDARD
TZOFFSETFROM:-0300
TZOFFSETTO:-0400
TZNAME:AST
DTSTART:20211107T050000
END:STANDARD
BEGIN:DAYLIGHT
TZOFFSETFROM:-0400
TZOFFSETTO:-0300
TZNAME:ADT
DTSTART:20220313T060000
END:DAYLIGHT
BEGIN:STANDARD
TZOFFSETFROM:-0300
TZOFFSETTO:-0400
TZNAME:AST
DTSTART:20221106T050000
END:STANDARD
BEGIN:DAYLIGHT
TZOFFSETFROM:-0400
TZOFFSETTO:-0300
TZNAME:ADT
DTSTART:20230312T060000
END:DAYLIGHT
BEGIN:STANDARD
TZOFFSETFROM:-0300
TZOFFSETTO:-0400
TZNAME:AST
DTSTART:20231105T050000
END:STANDARD
BEGIN:DAYLIGHT
TZOFFSETFROM:-0400
TZOFFSETTO:-0300
TZNAME:ADT
DTSTART:20240310T060000
END:DAYLIGHT
BEGIN:STANDARD
TZOFFSETFROM:-0300
TZOFFSETTO:-0400
TZNAME:AST
DTSTART:20241103T050000
END:STANDARD
END:VTIMEZONE
BEGIN:VEVENT
DTSTART;TZID=America/Halifax:20230102T090000
DTEND;TZID=America/Halifax:20230103T200000
DTSTAMP:20260423T073859
CREATED:20221212T211231Z
LAST-MODIFIED:20221212T211335Z
UID:10000422-1672650000-1672776000@mintomemorial.nbed.ca
SUMMARY:Tigers New Years Basketball Tournament
DESCRIPTION:Times to be determined
URL:https://mintomemorial.nbed.ca/calendar/tigers-new-years-basketball-tournament/
END:VEVENT
BEGIN:VEVENT
DTSTART;TZID=America/Halifax:20221230T173000
DTEND;TZID=America/Halifax:20221230T193000
DTSTAMP:20260423T073859
CREATED:20221222T184857Z
LAST-MODIFIED:20221222T184900Z
UID:10000341-1672421400-1672428600@mintomemorial.nbed.ca
SUMMARY:Sr. Boys Basketball Practice
DESCRIPTION:
URL:https://mintomemorial.nbed.ca/calendar/sr-boys-basketball-practice-6/
END:VEVENT
BEGIN:VEVENT
DTSTART;TZID=America/Halifax:20221228T173000
DTEND;TZID=America/Halifax:20221228T193000
DTSTAMP:20260423T073859
CREATED:20221222T184827Z
LAST-MODIFIED:20221222T184831Z
UID:10000339-1672248600-1672255800@mintomemorial.nbed.ca
SUMMARY:Sr. Boys Basketball Practice
DESCRIPTION:
URL:https://mintomemorial.nbed.ca/calendar/sr-boys-basketball-practice-5/
END:VEVENT
BEGIN:VEVENT
DTSTART;TZID=America/Halifax:20221226T173000
DTEND;TZID=America/Halifax:20221226T193000
DTSTAMP:20260423T073859
CREATED:20221222T184757Z
LAST-MODIFIED:20221222T184800Z
UID:10000338-1672075800-1672083000@mintomemorial.nbed.ca
SUMMARY:Sr. Boys Basketball Practice
DESCRIPTION:
URL:https://mintomemorial.nbed.ca/calendar/sr-boys-basketball-practice-4/
END:VEVENT
BEGIN:VEVENT
DTSTART;TZID=America/Halifax:20221224T000000
DTEND;TZID=America/Halifax:20230108T235959
DTSTAMP:20260423T073859
CREATED:20220626T005526Z
LAST-MODIFIED:20220626T005531Z
UID:10000277-1671840000-1673222399@mintomemorial.nbed.ca
SUMMARY:Holiday Break
DESCRIPTION:
URL:https://mintomemorial.nbed.ca/calendar/holiday-break/
ATTACH;FMTTYPE=image/png:https://mintomemorial.nbed.ca/wp-content/uploads/sites/8/2022/06/Date.png
END:VEVENT
BEGIN:VEVENT
DTSTART;TZID=America/Halifax:20221223T000000
DTEND;TZID=America/Halifax:20221223T235959
DTSTAMP:20260423T073859
CREATED:20221219T154420Z
LAST-MODIFIED:20221219T154424Z
UID:10000336-1671753600-1671839999@mintomemorial.nbed.ca
SUMMARY:Pajama/Cozy Day!
DESCRIPTION:
URL:https://mintomemorial.nbed.ca/calendar/pajama-cozy-day/
END:VEVENT
BEGIN:VEVENT
DTSTART;TZID=America/Halifax:20221223T000000
DTEND;TZID=America/Halifax:20221223T235959
DTSTAMP:20260423T073859
CREATED:20220626T005237Z
LAST-MODIFIED:20221117T130450Z
UID:10000276-1671753600-1671839999@mintomemorial.nbed.ca
SUMMARY:Last Day of Classes - Half Day
DESCRIPTION:This is the last day of school before the holidays. It is a half day of school. Students will dismiss at 11:30 am.
URL:https://mintomemorial.nbed.ca/calendar/last-day-of-classes/
ATTACH;FMTTYPE=image/png:https://mintomemorial.nbed.ca/wp-content/uploads/sites/8/2022/06/Date.png
END:VEVENT
BEGIN:VEVENT
DTSTART;TZID=America/Halifax:20221222T193000
DTEND;TZID=America/Halifax:20221222T213000
DTSTAMP:20260423T073859
CREATED:20221208T160024Z
LAST-MODIFIED:20221208T160028Z
UID:10000419-1671737400-1671744600@mintomemorial.nbed.ca
SUMMARY:Grand Lake Pickleball
DESCRIPTION:
URL:https://mintomemorial.nbed.ca/calendar/grand-lake-pickleball-10/
END:VEVENT
BEGIN:VEVENT
DTSTART;TZID=America/Halifax:20221222T173000
DTEND;TZID=America/Halifax:20221222T193000
DTSTAMP:20260423T073859
CREATED:20221219T153637Z
LAST-MODIFIED:20221222T184616Z
UID:10000423-1671730200-1671737400@mintomemorial.nbed.ca
SUMMARY:Sr. Boys Basketball Practice - Cancelled
DESCRIPTION:
URL:https://mintomemorial.nbed.ca/calendar/sr-boys-basketball-practice-3/
END:VEVENT
BEGIN:VEVENT
DTSTART;TZID=America/Halifax:20221222T153000
DTEND;TZID=America/Halifax:20221222T170000
DTSTAMP:20260423T073859
CREATED:20221207T130745Z
LAST-MODIFIED:20221207T130748Z
UID:10000416-1671723000-1671728400@mintomemorial.nbed.ca
SUMMARY:Girls Christmas Basketball Practice
DESCRIPTION:
URL:https://mintomemorial.nbed.ca/calendar/girls-christmas-basketball-practice/
END:VEVENT
BEGIN:VEVENT
DTSTART;TZID=America/Halifax:20221222T000000
DTEND;TZID=America/Halifax:20221222T235959
DTSTAMP:20260423T073859
CREATED:20221219T154352Z
LAST-MODIFIED:20221219T154355Z
UID:10000428-1671667200-1671753599@mintomemorial.nbed.ca
SUMMARY:Ugly Christmas Sweater Day!
DESCRIPTION:
URL:https://mintomemorial.nbed.ca/calendar/ugly-christmas-sweater-day/
END:VEVENT
BEGIN:VEVENT
DTSTART;TZID=America/Halifax:20221221T200000
DTEND;TZID=America/Halifax:20221221T220000
DTSTAMP:20260423T073859
CREATED:20221219T154124Z
LAST-MODIFIED:20221219T154127Z
UID:10000424-1671652800-1671660000@mintomemorial.nbed.ca
SUMMARY:Christmas Semi-Formal Dance
DESCRIPTION:
URL:https://mintomemorial.nbed.ca/calendar/christmas-semi-formal-dance/
END:VEVENT
BEGIN:VEVENT
DTSTART;TZID=America/Halifax:20221221T000000
DTEND;TZID=America/Halifax:20221221T235959
DTSTAMP:20260423T073859
CREATED:20221219T154318Z
LAST-MODIFIED:20221219T154322Z
UID:10000427-1671580800-1671667199@mintomemorial.nbed.ca
SUMMARY:Christmas Character Day!
DESCRIPTION:
URL:https://mintomemorial.nbed.ca/calendar/christmas-character-day/
END:VEVENT
BEGIN:VEVENT
DTSTART;TZID=America/Halifax:20221220T193000
DTEND;TZID=America/Halifax:20221220T213000
DTSTAMP:20260423T073859
CREATED:20221208T155533Z
LAST-MODIFIED:20221208T155536Z
UID:10000418-1671564600-1671571800@mintomemorial.nbed.ca
SUMMARY:Grand Lake Pickleball
DESCRIPTION:
URL:https://mintomemorial.nbed.ca/calendar/grand-lake-pickleball-9/
END:VEVENT
BEGIN:VEVENT
DTSTART;TZID=America/Halifax:20221220T180000
DTEND;TZID=America/Halifax:20221220T210000
DTSTAMP:20260423T073859
CREATED:20221114T010150Z
LAST-MODIFIED:20221114T010154Z
UID:10000372-1671559200-1671570000@mintomemorial.nbed.ca
SUMMARY:Away Basketball Games
DESCRIPTION:Girls @ SCS 6pm \n\n\n\nBoys @ SCS 7:30pm
URL:https://mintomemorial.nbed.ca/calendar/away-basketball-games-4/
END:VEVENT
BEGIN:VEVENT
DTSTART;TZID=America/Halifax:20221220T000000
DTEND;TZID=America/Halifax:20221220T235959
DTSTAMP:20260423T073859
CREATED:20221219T154254Z
LAST-MODIFIED:20221219T154257Z
UID:10000426-1671494400-1671580799@mintomemorial.nbed.ca
SUMMARY:Summer in December Day!
DESCRIPTION:
URL:https://mintomemorial.nbed.ca/calendar/summer-in-december-day/
END:VEVENT
BEGIN:VEVENT
DTSTART;TZID=America/Halifax:20221219T180000
DTEND;TZID=America/Halifax:20221219T210000
DTSTAMP:20260423T073859
CREATED:20221114T010032Z
LAST-MODIFIED:20221114T010036Z
UID:10000308-1671472800-1671483600@mintomemorial.nbed.ca
SUMMARY:Away Basketball Games
DESCRIPTION:Girls @ CNCS 6pm \n\n\n\nBoys @ CNCS 7:30pm
URL:https://mintomemorial.nbed.ca/calendar/away-basketball-games-3/
END:VEVENT
BEGIN:VEVENT
DTSTART;TZID=America/Halifax:20221219T000000
DTEND;TZID=America/Halifax:20221219T235959
DTSTAMP:20260423T073859
CREATED:20221219T154227Z
LAST-MODIFIED:20221219T154231Z
UID:10000425-1671408000-1671494399@mintomemorial.nbed.ca
SUMMARY:Red and Green Day!
DESCRIPTION:
URL:https://mintomemorial.nbed.ca/calendar/red-and-green-day/
END:VEVENT
BEGIN:VEVENT
DTSTART;TZID=America/Halifax:20221218T193000
DTEND;TZID=America/Halifax:20221218T213000
DTSTAMP:20260423T073859
CREATED:20221208T154308Z
LAST-MODIFIED:20221208T154311Z
UID:10000417-1671391800-1671399000@mintomemorial.nbed.ca
SUMMARY:Grand Lake Pickleball
DESCRIPTION:
URL:https://mintomemorial.nbed.ca/calendar/grand-lake-pickleball-5/
END:VEVENT
BEGIN:VEVENT
DTSTART;TZID=America/Halifax:20221215T193000
DTEND;TZID=America/Halifax:20221215T213000
DTSTAMP:20260423T073859
CREATED:20221201T164839Z
LAST-MODIFIED:20221201T164841Z
UID:10000412-1671132600-1671139800@mintomemorial.nbed.ca
SUMMARY:Grand Lake Pickleball
DESCRIPTION:
URL:https://mintomemorial.nbed.ca/calendar/grand-lake-pickleball-8/
END:VEVENT
BEGIN:VEVENT
DTSTART;TZID=America/Halifax:20221215T153000
DTEND;TZID=America/Halifax:20221215T170000
DTSTAMP:20260423T073859
CREATED:20221206T192825Z
LAST-MODIFIED:20221206T192828Z
UID:10000415-1671118200-1671123600@mintomemorial.nbed.ca
SUMMARY:Girls Basketball Practice
DESCRIPTION:
URL:https://mintomemorial.nbed.ca/calendar/girls-basketball-practice-9/
END:VEVENT
BEGIN:VEVENT
DTSTART;TZID=America/Halifax:20221214T180000
DTEND;TZID=America/Halifax:20221214T210000
DTSTAMP:20260423T073859
CREATED:20221114T005840Z
LAST-MODIFIED:20221114T005844Z
UID:10000306-1671040800-1671051600@mintomemorial.nbed.ca
SUMMARY:Away Basketball Games
DESCRIPTION:Girls @ CFAS 6pm \n\n\n\nBoys @ CFAS 7:30pm
URL:https://mintomemorial.nbed.ca/calendar/away-basketball-games-2/
END:VEVENT
BEGIN:VEVENT
DTSTART;TZID=America/Halifax:20221213T193000
DTEND;TZID=America/Halifax:20221213T213000
DTSTAMP:20260423T073859
CREATED:20221201T164651Z
LAST-MODIFIED:20221201T164654Z
UID:10000411-1670959800-1670967000@mintomemorial.nbed.ca
SUMMARY:Grand Lake Pickleball
DESCRIPTION:
URL:https://mintomemorial.nbed.ca/calendar/grand-lake-pickleball-7/
END:VEVENT
BEGIN:VEVENT
DTSTART;TZID=America/Halifax:20221213T153000
DTEND;TZID=America/Halifax:20221213T173000
DTSTAMP:20260423T073859
CREATED:20221212T152511Z
LAST-MODIFIED:20221212T152513Z
UID:10000421-1670945400-1670952600@mintomemorial.nbed.ca
SUMMARY:Boys Basketball Practice
DESCRIPTION:
URL:https://mintomemorial.nbed.ca/calendar/boys-basketball-practice-6/
END:VEVENT
BEGIN:VEVENT
DTSTART;TZID=America/Halifax:20221212T193000
DTEND;TZID=America/Halifax:20221212T213000
DTSTAMP:20260423T073859
CREATED:20221201T164513Z
LAST-MODIFIED:20221208T155421Z
UID:10000410-1670873400-1670880600@mintomemorial.nbed.ca
SUMMARY:Grand Lake Pickleball
DESCRIPTION:
URL:https://mintomemorial.nbed.ca/calendar/grand-lake-pickleball-6/
END:VEVENT
BEGIN:VEVENT
DTSTART;TZID=America/Halifax:20221212T180000
DTEND;TZID=America/Halifax:20221212T193000
DTSTAMP:20260423T073859
CREATED:20221115T174536Z
LAST-MODIFIED:20221212T150646Z
UID:10000380-1670868000-1670873400@mintomemorial.nbed.ca
SUMMARY:Boys Away Basketball Game- Rescheduled to a later date
DESCRIPTION:@ NSER (Sunny Corner)
URL:https://mintomemorial.nbed.ca/calendar/boys-away-basketball-game/
END:VEVENT
BEGIN:VEVENT
DTSTART;TZID=America/Halifax:20221210T110000
DTEND;TZID=America/Halifax:20221210T140000
DTSTAMP:20260423T073859
CREATED:20221114T005636Z
LAST-MODIFIED:20221114T005639Z
UID:10000304-1670670000-1670680800@mintomemorial.nbed.ca
SUMMARY:Home Basketball Games (@MEMS)
DESCRIPTION:Girls home vs PRHS 11am \n\n\n\nBoys home vs PRHS 12:30pm  \n\n\n\n(played at MEMS)
URL:https://mintomemorial.nbed.ca/calendar/home-basketball-games-mems/
END:VEVENT
BEGIN:VEVENT
DTSTART;TZID=America/Halifax:20221210T090000
DTEND;TZID=America/Halifax:20221210T140000
DTSTAMP:20260423T073859
CREATED:20221018T113904Z
LAST-MODIFIED:20221018T113907Z
UID:10000351-1670662800-1670680800@mintomemorial.nbed.ca
SUMMARY:Christmas Bazaar
DESCRIPTION:Students who are interested in volunteering (8 am to 3 pm) for this event please see Mrs. Caissie.
URL:https://mintomemorial.nbed.ca/calendar/christmas-bazaar/
END:VEVENT
BEGIN:VEVENT
DTSTART;TZID=America/Halifax:20221209T000000
DTEND;TZID=America/Halifax:20221209T235959
DTSTAMP:20260423T073859
CREATED:20220626T004605Z
LAST-MODIFIED:20220626T004612Z
UID:10000275-1670544000-1670630399@mintomemorial.nbed.ca
SUMMARY:Professional Learning Day
DESCRIPTION:No school for students. Teachers are taking part in Professional Learning activities.
URL:https://mintomemorial.nbed.ca/calendar/professional-learning-day/
ATTACH;FMTTYPE=image/png:https://mintomemorial.nbed.ca/wp-content/uploads/sites/8/2022/06/Learning.png
END:VEVENT
BEGIN:VEVENT
DTSTART;TZID=America/Halifax:20221208T150000
DTEND;TZID=America/Halifax:20221208T220000
DTSTAMP:20260423T073859
CREATED:20221205T164121Z
LAST-MODIFIED:20221205T164123Z
UID:10000414-1670511600-1670536800@mintomemorial.nbed.ca
SUMMARY:Set up-No Gym Bookings
DESCRIPTION:
URL:https://mintomemorial.nbed.ca/calendar/set-up-no-gym-bookings/
END:VEVENT
END:VCALENDAR