BEGIN:VCALENDAR
VERSION:2.0
PRODID:-//Minto Memorial High School - ECPv6.15.20//NONSGML v1.0//EN
CALSCALE:GREGORIAN
METHOD:PUBLISH
X-WR-CALNAME:Minto Memorial High School
X-ORIGINAL-URL:https://mintomemorial.nbed.ca
X-WR-CALDESC:Events for Minto Memorial High School
REFRESH-INTERVAL;VALUE=DURATION:PT1H
X-Robots-Tag:noindex
X-PUBLISHED-TTL:PT1H
BEGIN:VTIMEZONE
TZID:America/Halifax
BEGIN:DAYLIGHT
TZOFFSETFROM:-0400
TZOFFSETTO:-0300
TZNAME:ADT
DTSTART:20220313T060000
END:DAYLIGHT
BEGIN:STANDARD
TZOFFSETFROM:-0300
TZOFFSETTO:-0400
TZNAME:AST
DTSTART:20221106T050000
END:STANDARD
BEGIN:DAYLIGHT
TZOFFSETFROM:-0400
TZOFFSETTO:-0300
TZNAME:ADT
DTSTART:20230312T060000
END:DAYLIGHT
BEGIN:STANDARD
TZOFFSETFROM:-0300
TZOFFSETTO:-0400
TZNAME:AST
DTSTART:20231105T050000
END:STANDARD
BEGIN:DAYLIGHT
TZOFFSETFROM:-0400
TZOFFSETTO:-0300
TZNAME:ADT
DTSTART:20240310T060000
END:DAYLIGHT
BEGIN:STANDARD
TZOFFSETFROM:-0300
TZOFFSETTO:-0400
TZNAME:AST
DTSTART:20241103T050000
END:STANDARD
END:VTIMEZONE
BEGIN:VTIMEZONE
TZID:America/Moncton
BEGIN:DAYLIGHT
TZOFFSETFROM:-0400
TZOFFSETTO:-0300
TZNAME:ADT
DTSTART:20220313T060000
END:DAYLIGHT
BEGIN:STANDARD
TZOFFSETFROM:-0300
TZOFFSETTO:-0400
TZNAME:AST
DTSTART:20221106T050000
END:STANDARD
BEGIN:DAYLIGHT
TZOFFSETFROM:-0400
TZOFFSETTO:-0300
TZNAME:ADT
DTSTART:20230312T060000
END:DAYLIGHT
BEGIN:STANDARD
TZOFFSETFROM:-0300
TZOFFSETTO:-0400
TZNAME:AST
DTSTART:20231105T050000
END:STANDARD
BEGIN:DAYLIGHT
TZOFFSETFROM:-0400
TZOFFSETTO:-0300
TZNAME:ADT
DTSTART:20240310T060000
END:DAYLIGHT
BEGIN:STANDARD
TZOFFSETFROM:-0300
TZOFFSETTO:-0400
TZNAME:AST
DTSTART:20241103T050000
END:STANDARD
END:VTIMEZONE
BEGIN:VEVENT
DTSTART;TZID=America/Halifax:20230418T173000
DTEND;TZID=America/Halifax:20230418T200000
DTSTAMP:20260419T093454
CREATED:20230412T163848Z
LAST-MODIFIED:20230412T163849Z
UID:10000547-1681839000-1681848000@mintomemorial.nbed.ca
SUMMARY:Senior Girls Volleyball Away Games
DESCRIPTION:@ Rogersville 5:45pm vs EDA\, 6:45pm vs CFAS
URL:https://mintomemorial.nbed.ca/calendar/senior-girls-volleyball-away-games-2/
END:VEVENT
BEGIN:VEVENT
DTSTART;TZID=America/Halifax:20230418T153000
DTEND;TZID=America/Halifax:20230418T170000
DTSTAMP:20260419T093454
CREATED:20230417T001043Z
LAST-MODIFIED:20230417T001043Z
UID:10000558-1681831800-1681837200@mintomemorial.nbed.ca
SUMMARY:Badminton Practice
DESCRIPTION:
URL:https://mintomemorial.nbed.ca/calendar/badminton-practice-12/
END:VEVENT
BEGIN:VEVENT
DTSTART;TZID=America/Halifax:20230417T193000
DTEND;TZID=America/Halifax:20230417T213000
DTSTAMP:20260419T093454
CREATED:20230414T141332Z
LAST-MODIFIED:20230414T141333Z
UID:10000557-1681759800-1681767000@mintomemorial.nbed.ca
SUMMARY:Grand Lake Pickle Ball
DESCRIPTION:
URL:https://mintomemorial.nbed.ca/calendar/grand-lake-pickle-ball-5/
END:VEVENT
BEGIN:VEVENT
DTSTART;TZID=America/Halifax:20230417T153000
DTEND;TZID=America/Halifax:20230417T170000
DTSTAMP:20260419T093454
CREATED:20230412T164357Z
LAST-MODIFIED:20230412T164358Z
UID:10000550-1681745400-1681750800@mintomemorial.nbed.ca
SUMMARY:JV Girls Volleyball Practice
DESCRIPTION:
URL:https://mintomemorial.nbed.ca/calendar/jv-girls-volleyball-practice-13/
END:VEVENT
BEGIN:VEVENT
DTSTART;TZID=America/Halifax:20230416T193000
DTEND;TZID=America/Halifax:20230416T213000
DTSTAMP:20260419T093454
CREATED:20230406T165330Z
LAST-MODIFIED:20230406T165331Z
UID:10000543-1681673400-1681680600@mintomemorial.nbed.ca
SUMMARY:Grand Lake Pickle Ball
DESCRIPTION:
URL:https://mintomemorial.nbed.ca/calendar/grand-lake-pickle-ball-3/
END:VEVENT
BEGIN:VEVENT
DTSTART;TZID=America/Halifax:20230415T080000
DTEND;TZID=America/Halifax:20230416T170000
DTSTAMP:20260419T093454
CREATED:20230223T171939Z
LAST-MODIFIED:20230223T171941Z
UID:10000389-1681545600-1681664400@mintomemorial.nbed.ca
SUMMARY:Senior Boys Volleyball Tournament
DESCRIPTION:O’Dyssee tournament in Moncton
URL:https://mintomemorial.nbed.ca/calendar/senior-boys-volleyball-tournament-2/
END:VEVENT
BEGIN:VEVENT
DTSTART;TZID=America/Halifax:20230415T080000
DTEND;TZID=America/Halifax:20230415T170000
DTSTAMP:20260419T093454
CREATED:20230406T165523Z
LAST-MODIFIED:20230406T165524Z
UID:10000545-1681545600-1681578000@mintomemorial.nbed.ca
SUMMARY:Badminton Regionals
DESCRIPTION:Doubles
URL:https://mintomemorial.nbed.ca/calendar/badminton-regionals-2/
END:VEVENT
BEGIN:VEVENT
DTSTART;TZID=America/Halifax:20230415T080000
DTEND;TZID=America/Halifax:20230415T170000
DTSTAMP:20260419T093454
CREATED:20230223T172127Z
LAST-MODIFIED:20230223T172129Z
UID:10000391-1681545600-1681578000@mintomemorial.nbed.ca
SUMMARY:Senior Girls Volleyball Tournament
DESCRIPTION:Tournament @ CNBA
URL:https://mintomemorial.nbed.ca/calendar/senior-girls-volleyball-tournament-3/
END:VEVENT
BEGIN:VEVENT
DTSTART;TZID=America/Halifax:20230414T000000
DTEND;TZID=America/Halifax:20230414T235959
DTSTAMP:20260419T093454
CREATED:20220626T013349Z
LAST-MODIFIED:20220626T013353Z
UID:10000288-1681430400-1681516799@mintomemorial.nbed.ca
SUMMARY:PL Day & PT Interviews
DESCRIPTION:No school for students today. Teachers will be taking part in Professional Learning in the morning and Parent/Teacher Interviews will be in the afternoon from 1 to 3 pm. Interviews will take place in the theatre.
URL:https://mintomemorial.nbed.ca/calendar/pl-day-pt-interviews-2/
ATTACH;FMTTYPE=image/png:https://mintomemorial.nbed.ca/wp-content/uploads/sites/8/2022/06/Meeting.png
END:VEVENT
BEGIN:VEVENT
DTSTART;TZID=America/Halifax:20230413T193000
DTEND;TZID=America/Halifax:20230413T213000
DTSTAMP:20260419T093454
CREATED:20230406T165240Z
LAST-MODIFIED:20230406T165241Z
UID:10000542-1681414200-1681421400@mintomemorial.nbed.ca
SUMMARY:Grand Lake Pickle Ball
DESCRIPTION:
URL:https://mintomemorial.nbed.ca/calendar/grand-lake-pickle-ball-2/
END:VEVENT
BEGIN:VEVENT
DTSTART;TZID=America/Halifax:20230413T180000
DTEND;TZID=America/Halifax:20230413T203000
DTSTAMP:20260419T093454
CREATED:20230406T164646Z
LAST-MODIFIED:20230406T164646Z
UID:10000538-1681408800-1681417800@mintomemorial.nbed.ca
SUMMARY:Senior Boys Away Volleyball Games
DESCRIPTION:@ MFR 6pm vs MFR\, 7:15pm vs PRHS
URL:https://mintomemorial.nbed.ca/calendar/senior-boys-away-volleyball-games/
END:VEVENT
BEGIN:VEVENT
DTSTART;TZID=America/Halifax:20230413T180000
DTEND;TZID=America/Halifax:20230413T200000
DTSTAMP:20260419T093454
CREATED:20230413T141708Z
LAST-MODIFIED:20230413T141709Z
UID:10000556-1681408800-1681416000@mintomemorial.nbed.ca
SUMMARY:Parent Teacher Interviews
DESCRIPTION:
URL:https://mintomemorial.nbed.ca/calendar/parent-teacher-interviews-2/
END:VEVENT
BEGIN:VEVENT
DTSTART;TZID=America/Halifax:20230413T173000
DTEND;TZID=America/Halifax:20230413T200000
DTSTAMP:20260419T093454
CREATED:20230406T164514Z
LAST-MODIFIED:20230406T164515Z
UID:10000537-1681407000-1681416000@mintomemorial.nbed.ca
SUMMARY:JV Girls Away Games
DESCRIPTION:@ Petitcodiac 5:45pm vs PRHS\, 5:45pm vs EDA
URL:https://mintomemorial.nbed.ca/calendar/jv-girls-away-games/
END:VEVENT
BEGIN:VEVENT
DTSTART;TZID=America/Halifax:20230412T173000
DTEND;TZID=America/Halifax:20230412T190000
DTSTAMP:20260419T093454
CREATED:20230406T183015Z
LAST-MODIFIED:20230406T183016Z
UID:10000546-1681320600-1681326000@mintomemorial.nbed.ca
SUMMARY:JV Girls Volleyball Practice
DESCRIPTION:
URL:https://mintomemorial.nbed.ca/calendar/jv-girls-volleyball-practice-12/
END:VEVENT
BEGIN:VEVENT
DTSTART;TZID=America/Halifax:20230412T153000
DTEND;TZID=America/Halifax:20230412T173000
DTSTAMP:20260419T093454
CREATED:20230406T165022Z
LAST-MODIFIED:20230406T165622Z
UID:10000540-1681313400-1681320600@mintomemorial.nbed.ca
SUMMARY:Senior Boys Volleyball Practice
DESCRIPTION:
URL:https://mintomemorial.nbed.ca/calendar/senior-boys-volleyball-practice-13/
END:VEVENT
BEGIN:VEVENT
DTSTART;TZID=America/Halifax:20230411T193000
DTEND;TZID=America/Halifax:20230411T213000
DTSTAMP:20260419T093454
CREATED:20230406T165154Z
LAST-MODIFIED:20230627T174642Z
UID:10000541-1681241400-1681248600@mintomemorial.nbed.ca
SUMMARY:Grand Lake Pickle Ball
DESCRIPTION:
URL:https://mintomemorial.nbed.ca/calendar/grand-lake-pickle-ball/
END:VEVENT
BEGIN:VEVENT
DTSTART;TZID=America/Halifax:20230411T183000
DTEND;TZID=America/Halifax:20230411T210000
DTSTAMP:20260419T093454
CREATED:20230406T164928Z
LAST-MODIFIED:20230406T164929Z
UID:10000539-1681237800-1681246800@mintomemorial.nbed.ca
SUMMARY:Senior Girls  Away Volleyball Games
DESCRIPTION:@ Cambridge Narrows 6:45pm vs EDA\, 8pm vs CNS
URL:https://mintomemorial.nbed.ca/calendar/senior-girls-away-volleyball-games/
END:VEVENT
BEGIN:VEVENT
DTSTART;TZID=America/Halifax:20230411T153000
DTEND;TZID=America/Halifax:20230411T170000
DTSTAMP:20260419T093454
CREATED:20230406T164229Z
LAST-MODIFIED:20230406T164230Z
UID:10000536-1681227000-1681232400@mintomemorial.nbed.ca
SUMMARY:Badminton Practice
DESCRIPTION:
URL:https://mintomemorial.nbed.ca/calendar/badminton-practice-11/
END:VEVENT
BEGIN:VEVENT
DTSTART;TZID=America/Halifax:20230410T080000
DTEND;TZID=America/Halifax:20230410T170000
DTSTAMP:20260419T093454
CREATED:20230223T171806Z
LAST-MODIFIED:20230223T171808Z
UID:10000387-1681113600-1681146000@mintomemorial.nbed.ca
SUMMARY:Senior Girls & Boys Home VBall Tournament
DESCRIPTION:MMHS Home tournament
URL:https://mintomemorial.nbed.ca/calendar/senior-girls-boys-home-vball-tournament/
END:VEVENT
BEGIN:VEVENT
DTSTART;TZID=America/Halifax:20230410T000000
DTEND;TZID=America/Halifax:20230410T235959
DTSTAMP:20260419T093454
CREATED:20220626T012518Z
LAST-MODIFIED:20220626T012523Z
UID:10000286-1681084800-1681171199@mintomemorial.nbed.ca
SUMMARY:Easter Monday
DESCRIPTION:No school.
URL:https://mintomemorial.nbed.ca/calendar/easter-monday/
ATTACH;FMTTYPE=image/png:https://mintomemorial.nbed.ca/wp-content/uploads/sites/8/2022/06/Date.png
END:VEVENT
BEGIN:VEVENT
DTSTART;TZID=America/Moncton:20230410T000000
DTEND;TZID=America/Moncton:20230410T235959
DTSTAMP:20260419T093454
CREATED:20220502T161542Z
LAST-MODIFIED:20220921T125042Z
UID:10000263-1681084800-1681171199@mintomemorial.nbed.ca
SUMMARY:Easter Monday
DESCRIPTION:
URL:https://mintomemorial.nbed.ca/calendar/easter-monday-2/
END:VEVENT
BEGIN:VEVENT
DTSTART;TZID=America/Halifax:20230408T080000
DTEND;TZID=America/Halifax:20230409T170000
DTSTAMP:20260419T093454
CREATED:20230223T171708Z
LAST-MODIFIED:20230223T171711Z
UID:10000384-1680940800-1681059600@mintomemorial.nbed.ca
SUMMARY:Senior Girls Volleyball Tournament
DESCRIPTION:UdeM Tournament in Moncton
URL:https://mintomemorial.nbed.ca/calendar/senior-girls-volleyball-tournament-2/
END:VEVENT
BEGIN:VEVENT
DTSTART;TZID=America/Halifax:20230407T000000
DTEND;TZID=America/Halifax:20230410T235959
DTSTAMP:20260419T093454
CREATED:20230403T115918Z
LAST-MODIFIED:20230403T191331Z
UID:10000534-1680825600-1681171199@mintomemorial.nbed.ca
SUMMARY:No Gym Use- Set up for Volleyball Tournament
DESCRIPTION:
URL:https://mintomemorial.nbed.ca/calendar/grand-lake-pickleball-38/
END:VEVENT
BEGIN:VEVENT
DTSTART;TZID=America/Halifax:20230407T000000
DTEND;TZID=America/Halifax:20230407T235959
DTSTAMP:20260419T093454
CREATED:20220626T012300Z
LAST-MODIFIED:20220626T012305Z
UID:10000285-1680825600-1680911999@mintomemorial.nbed.ca
SUMMARY:Good Friday
DESCRIPTION:No school.
URL:https://mintomemorial.nbed.ca/calendar/good-friday/
ATTACH;FMTTYPE=image/png:https://mintomemorial.nbed.ca/wp-content/uploads/sites/8/2022/06/Date.png
END:VEVENT
BEGIN:VEVENT
DTSTART;TZID=America/Moncton:20230407T000000
DTEND;TZID=America/Moncton:20230407T235959
DTSTAMP:20260419T093454
CREATED:20220502T161451Z
LAST-MODIFIED:20220921T130244Z
UID:10000262-1680825600-1680911999@mintomemorial.nbed.ca
SUMMARY:Good Friday
DESCRIPTION:
URL:https://mintomemorial.nbed.ca/calendar/good-friday-2/
END:VEVENT
BEGIN:VEVENT
DTSTART;TZID=America/Halifax:20230406T170000
DTEND;TZID=America/Halifax:20230406T210000
DTSTAMP:20260419T093454
CREATED:20230401T220952Z
LAST-MODIFIED:20230401T220952Z
UID:10000530-1680800400-1680814800@mintomemorial.nbed.ca
SUMMARY:Senior Boys Home Volleyball Games
DESCRIPTION:Home vs MFR 6pm\, SCS vs MFR 7:15pm\, vs SCS 8:30pm
URL:https://mintomemorial.nbed.ca/calendar/senior-boys-home-volleyball-games/
END:VEVENT
BEGIN:VEVENT
DTSTART;TZID=America/Halifax:20230406T153000
DTEND;TZID=America/Halifax:20230406T173000
DTSTAMP:20260419T093454
CREATED:20230402T231208Z
LAST-MODIFIED:20230402T231209Z
UID:10000532-1680795000-1680802200@mintomemorial.nbed.ca
SUMMARY:Senior Girls Volleyball Practice
DESCRIPTION:
URL:https://mintomemorial.nbed.ca/calendar/senior-girls-volleyball-practice-10/
END:VEVENT
BEGIN:VEVENT
DTSTART;TZID=America/Halifax:20230406T000000
DTEND;TZID=America/Halifax:20230406T235959
DTSTAMP:20260419T093454
CREATED:20220626T012126Z
LAST-MODIFIED:20220626T012130Z
UID:10000284-1680739200-1680825599@mintomemorial.nbed.ca
SUMMARY:Report Cards Issued
DESCRIPTION:Report cards will be sent home with students this week.
URL:https://mintomemorial.nbed.ca/calendar/report-cards-issued-2/
ATTACH;FMTTYPE=image/png:https://mintomemorial.nbed.ca/wp-content/uploads/sites/8/2022/06/Reports.png
END:VEVENT
BEGIN:VEVENT
DTSTART;TZID=America/Halifax:20230405T193000
DTEND;TZID=America/Halifax:20230405T213000
DTSTAMP:20260419T093454
CREATED:20230405T114623Z
LAST-MODIFIED:20230405T164451Z
UID:10000535-1680723000-1680730200@mintomemorial.nbed.ca
SUMMARY:Grand Lake Pickleball- CANCELLED
DESCRIPTION:
URL:https://mintomemorial.nbed.ca/calendar/grand-lake-pickleball-39/
END:VEVENT
BEGIN:VEVENT
DTSTART;TZID=America/Halifax:20230405T153000
DTEND;TZID=America/Halifax:20230405T173000
DTSTAMP:20260419T093454
CREATED:20230401T221414Z
LAST-MODIFIED:20230401T221415Z
UID:10000531-1680708600-1680715800@mintomemorial.nbed.ca
SUMMARY:Senior Boys Volleyball Practice
DESCRIPTION:
URL:https://mintomemorial.nbed.ca/calendar/senior-boys-volleyball-practice-12/
END:VEVENT
END:VCALENDAR