BEGIN:VCALENDAR
VERSION:2.0
PRODID:-//Minto Memorial High School - ECPv6.15.20//NONSGML v1.0//EN
CALSCALE:GREGORIAN
METHOD:PUBLISH
X-WR-CALNAME:Minto Memorial High School
X-ORIGINAL-URL:https://mintomemorial.nbed.ca
X-WR-CALDESC:Events for Minto Memorial High School
REFRESH-INTERVAL;VALUE=DURATION:PT1H
X-Robots-Tag:noindex
X-PUBLISHED-TTL:PT1H
BEGIN:VTIMEZONE
TZID:America/Halifax
BEGIN:DAYLIGHT
TZOFFSETFROM:-0400
TZOFFSETTO:-0300
TZNAME:ADT
DTSTART:20220313T060000
END:DAYLIGHT
BEGIN:STANDARD
TZOFFSETFROM:-0300
TZOFFSETTO:-0400
TZNAME:AST
DTSTART:20221106T050000
END:STANDARD
BEGIN:DAYLIGHT
TZOFFSETFROM:-0400
TZOFFSETTO:-0300
TZNAME:ADT
DTSTART:20230312T060000
END:DAYLIGHT
BEGIN:STANDARD
TZOFFSETFROM:-0300
TZOFFSETTO:-0400
TZNAME:AST
DTSTART:20231105T050000
END:STANDARD
BEGIN:DAYLIGHT
TZOFFSETFROM:-0400
TZOFFSETTO:-0300
TZNAME:ADT
DTSTART:20240310T060000
END:DAYLIGHT
BEGIN:STANDARD
TZOFFSETFROM:-0300
TZOFFSETTO:-0400
TZNAME:AST
DTSTART:20241103T050000
END:STANDARD
END:VTIMEZONE
BEGIN:VEVENT
DTSTART;TZID=America/Halifax:20230403T153000
DTEND;TZID=America/Halifax:20230403T170000
DTSTAMP:20260419T142008
CREATED:20230401T215734Z
LAST-MODIFIED:20230401T215734Z
UID:10000524-1680535800-1680541200@mintomemorial.nbed.ca
SUMMARY:JV Girls Volleyball Practice
DESCRIPTION:
URL:https://mintomemorial.nbed.ca/calendar/jv-girls-volleyball-practice-11/
END:VEVENT
BEGIN:VEVENT
DTSTART;TZID=America/Halifax:20230402T193000
DTEND;TZID=America/Halifax:20230402T213000
DTSTAMP:20260419T142008
CREATED:20230401T215647Z
LAST-MODIFIED:20230401T215648Z
UID:10000523-1680463800-1680471000@mintomemorial.nbed.ca
SUMMARY:Grand Lake Pickleball
DESCRIPTION:
URL:https://mintomemorial.nbed.ca/calendar/grand-lake-pickleball-36/
END:VEVENT
BEGIN:VEVENT
DTSTART;TZID=America/Halifax:20230401T120000
DTEND;TZID=America/Halifax:20230402T170000
DTSTAMP:20260419T142008
CREATED:20230223T171014Z
LAST-MODIFIED:20230325T004101Z
UID:10000383-1680350400-1680454800@mintomemorial.nbed.ca
SUMMARY:Senior Boys Volleyball Tournament
DESCRIPTION:STU Cup- Grant Harvey Fredericton Saturday Game Times 2:30pm & 3:30pm Grant Harvey\, 6:30pm Nasis Field House
URL:https://mintomemorial.nbed.ca/calendar/senior-boys-volleyball-tournament/
END:VEVENT
BEGIN:VEVENT
DTSTART;TZID=America/Halifax:20230401T120000
DTEND;TZID=America/Halifax:20230402T170000
DTSTAMP:20260419T142008
CREATED:20230223T170849Z
LAST-MODIFIED:20230325T004216Z
UID:10000381-1680350400-1680454800@mintomemorial.nbed.ca
SUMMARY:Senior Girls Volleyball Tournament
DESCRIPTION:STU Cup- Grant Harvey Fredericton (11am & 1:15pm Games @ FHS\, 6:30pm Grant Harvey)
URL:https://mintomemorial.nbed.ca/calendar/senior-girls-volleyball-tournament/
END:VEVENT
BEGIN:VEVENT
DTSTART;TZID=America/Halifax:20230331T120000
DTEND;TZID=America/Halifax:20230401T170000
DTSTAMP:20260419T142008
CREATED:20230223T170735Z
LAST-MODIFIED:20230325T003925Z
UID:10000379-1680264000-1680368400@mintomemorial.nbed.ca
SUMMARY:JV Girls Volleyball Tournament
DESCRIPTION:STU Cup- Grant Harvey Fredericton   (Friday game times: 3:50pm\, 7:30pm\, 8:25pm- Grant Harvey)
URL:https://mintomemorial.nbed.ca/calendar/jv-girls-volleyball-tournament/
END:VEVENT
BEGIN:VEVENT
DTSTART;TZID=America/Halifax:20230330T193000
DTEND;TZID=America/Halifax:20230330T213000
DTSTAMP:20260419T142008
CREATED:20230325T004311Z
LAST-MODIFIED:20230325T004312Z
UID:10000514-1680204600-1680211800@mintomemorial.nbed.ca
SUMMARY:Grand Lake Pickleball
DESCRIPTION:
URL:https://mintomemorial.nbed.ca/calendar/grand-lake-pickleball-34/
END:VEVENT
BEGIN:VEVENT
DTSTART;TZID=America/Halifax:20230330T170000
DTEND;TZID=America/Halifax:20230330T190000
DTSTAMP:20260419T142008
CREATED:20230325T004947Z
LAST-MODIFIED:20230325T004947Z
UID:10000521-1680195600-1680202800@mintomemorial.nbed.ca
SUMMARY:Senior Girls Volleyball Practice
DESCRIPTION:
URL:https://mintomemorial.nbed.ca/calendar/senior-girls-volleyball-practice-9/
END:VEVENT
BEGIN:VEVENT
DTSTART;TZID=America/Halifax:20230330T153000
DTEND;TZID=America/Halifax:20230330T170000
DTSTAMP:20260419T142008
CREATED:20230325T004902Z
LAST-MODIFIED:20230627T194859Z
UID:10000520-1680190200-1680195600@mintomemorial.nbed.ca
SUMMARY:JVGirls Volleyball Practice- CANCELLED
DESCRIPTION:
URL:https://mintomemorial.nbed.ca/calendar/jvgirls-volleyball-practice-2/
END:VEVENT
BEGIN:VEVENT
DTSTART;TZID=America/Halifax:20230329T193000
DTEND;TZID=America/Halifax:20230329T213000
DTSTAMP:20260419T142008
CREATED:20230327T115018Z
LAST-MODIFIED:20230327T115019Z
UID:10000522-1680118200-1680125400@mintomemorial.nbed.ca
SUMMARY:Grand Lake Pickleball
DESCRIPTION:
URL:https://mintomemorial.nbed.ca/calendar/grand-lake-pickleball-35/
END:VEVENT
BEGIN:VEVENT
DTSTART;TZID=America/Halifax:20230329T173000
DTEND;TZID=America/Halifax:20230329T190000
DTSTAMP:20260419T142008
CREATED:20230325T004519Z
LAST-MODIFIED:20230325T004520Z
UID:10000516-1680111000-1680116400@mintomemorial.nbed.ca
SUMMARY:Badminton Practice
DESCRIPTION:
URL:https://mintomemorial.nbed.ca/calendar/badminton-practice-9/
END:VEVENT
BEGIN:VEVENT
DTSTART;TZID=America/Halifax:20230329T153000
DTEND;TZID=America/Halifax:20230329T173000
DTSTAMP:20260419T142008
CREATED:20230325T004816Z
LAST-MODIFIED:20230325T004817Z
UID:10000519-1680103800-1680111000@mintomemorial.nbed.ca
SUMMARY:Senior Boys Volleyball Practice
DESCRIPTION:
URL:https://mintomemorial.nbed.ca/calendar/senior-boys-volleyball-practice-10/
END:VEVENT
BEGIN:VEVENT
DTSTART;TZID=America/Halifax:20230328T173000
DTEND;TZID=America/Halifax:20230328T200000
DTSTAMP:20260419T142008
CREATED:20230325T003440Z
LAST-MODIFIED:20230325T003440Z
UID:10000512-1680024600-1680033600@mintomemorial.nbed.ca
SUMMARY:Senior Girls Volleyball Away Games
DESCRIPTION:@ Sussex 5:45pm vs SCS and 6:45 vs CNS
URL:https://mintomemorial.nbed.ca/calendar/senior-girls-volleyball-away-games/
END:VEVENT
BEGIN:VEVENT
DTSTART;TZID=America/Halifax:20230328T170000
DTEND;TZID=America/Halifax:20230328T210000
DTSTAMP:20260419T142008
CREATED:20230325T003654Z
LAST-MODIFIED:20230325T003655Z
UID:10000513-1680022800-1680037200@mintomemorial.nbed.ca
SUMMARY:JV Girls Volleyball Home Games
DESCRIPTION:Home 5:45pm vs EDA\, 6:45 EDA vs CFAS\, 8pm vs CFAS
URL:https://mintomemorial.nbed.ca/calendar/jv-girls-volleyball-home-games/
END:VEVENT
BEGIN:VEVENT
DTSTART;TZID=America/Halifax:20230328T153000
DTEND;TZID=America/Halifax:20230328T170000
DTSTAMP:20260419T142008
CREATED:20230325T004418Z
LAST-MODIFIED:20230325T004419Z
UID:10000515-1680017400-1680022800@mintomemorial.nbed.ca
SUMMARY:Badminton Games- Home
DESCRIPTION:Home vs CFAS
URL:https://mintomemorial.nbed.ca/calendar/badminton-games-home/
END:VEVENT
BEGIN:VEVENT
DTSTART;TZID=America/Halifax:20230327T173000
DTEND;TZID=America/Halifax:20230327T193000
DTSTAMP:20260419T142008
CREATED:20230325T004656Z
LAST-MODIFIED:20230325T004657Z
UID:10000518-1679938200-1679945400@mintomemorial.nbed.ca
SUMMARY:Senior Boys Volleyball Practice
DESCRIPTION:
URL:https://mintomemorial.nbed.ca/calendar/senior-boys-volleyball-practice-9/
END:VEVENT
BEGIN:VEVENT
DTSTART;TZID=America/Halifax:20230327T153000
DTEND;TZID=America/Halifax:20230327T170000
DTSTAMP:20260419T142008
CREATED:20230325T004606Z
LAST-MODIFIED:20230325T004607Z
UID:10000517-1679931000-1679936400@mintomemorial.nbed.ca
SUMMARY:JVGirls Volleyball Practice
DESCRIPTION:
URL:https://mintomemorial.nbed.ca/calendar/jvgirls-volleyball-practice/
END:VEVENT
BEGIN:VEVENT
DTSTART;TZID=America/Halifax:20230326T193000
DTEND;TZID=America/Halifax:20230326T213000
DTSTAMP:20260419T142008
CREATED:20230325T003311Z
LAST-MODIFIED:20230325T003312Z
UID:10000511-1679859000-1679866200@mintomemorial.nbed.ca
SUMMARY:Grand Lake Pickleball
DESCRIPTION:
URL:https://mintomemorial.nbed.ca/calendar/grand-lake-pickleball-33/
END:VEVENT
BEGIN:VEVENT
DTSTART;TZID=America/Halifax:20230325T090000
DTEND;TZID=America/Halifax:20230326T170000
DTSTAMP:20260419T142008
CREATED:20230317T002250Z
LAST-MODIFIED:20230317T002409Z
UID:10000505-1679734800-1679850000@mintomemorial.nbed.ca
SUMMARY:Senior Girls Basketball Provincials BNB @ Hillsborough
DESCRIPTION:
URL:https://mintomemorial.nbed.ca/calendar/senior-girls-basketball-provincials-bnb/
END:VEVENT
BEGIN:VEVENT
DTSTART;TZID=America/Halifax:20230323T193000
DTEND;TZID=America/Halifax:20230323T213000
DTSTAMP:20260419T142008
CREATED:20230317T002720Z
LAST-MODIFIED:20230317T002721Z
UID:10000506-1679599800-1679607000@mintomemorial.nbed.ca
SUMMARY:Grandlake Pickleball
DESCRIPTION:
URL:https://mintomemorial.nbed.ca/calendar/grandlake-pickleball-4/
END:VEVENT
BEGIN:VEVENT
DTSTART;TZID=America/Halifax:20230323T180000
DTEND;TZID=America/Halifax:20230323T193000
DTSTAMP:20260419T142008
CREATED:20230316T234643Z
LAST-MODIFIED:20230316T234644Z
UID:10000501-1679594400-1679599800@mintomemorial.nbed.ca
SUMMARY:Senior Boys Volleyball Home Game
DESCRIPTION:Home vs CFAS
URL:https://mintomemorial.nbed.ca/calendar/senior-boys-volleyball-home-game/
END:VEVENT
BEGIN:VEVENT
DTSTART;TZID=America/Halifax:20230323T153000
DTEND;TZID=America/Halifax:20230323T170000
DTSTAMP:20260419T142008
CREATED:20230317T001102Z
LAST-MODIFIED:20230317T001103Z
UID:10000502-1679585400-1679590800@mintomemorial.nbed.ca
SUMMARY:JV Girls Volleyball Practice
DESCRIPTION:
URL:https://mintomemorial.nbed.ca/calendar/jv-girls-volleyball-practice-10/
END:VEVENT
BEGIN:VEVENT
DTSTART;TZID=America/Halifax:20230322T173000
DTEND;TZID=America/Halifax:20230322T190000
DTSTAMP:20260419T142008
CREATED:20230317T001239Z
LAST-MODIFIED:20230317T001239Z
UID:10000503-1679506200-1679511600@mintomemorial.nbed.ca
SUMMARY:Badminton Practice
DESCRIPTION:
URL:https://mintomemorial.nbed.ca/calendar/badminton-practice-8/
END:VEVENT
BEGIN:VEVENT
DTSTART;TZID=America/Halifax:20230322T163000
DTEND;TZID=America/Halifax:20230322T173000
DTSTAMP:20260419T142008
CREATED:20230317T003004Z
LAST-MODIFIED:20230317T003005Z
UID:10000508-1679502600-1679506200@mintomemorial.nbed.ca
SUMMARY:Senior Girl Volleyball Practice
DESCRIPTION:
URL:https://mintomemorial.nbed.ca/calendar/senior-girl-volleyball-practice/
END:VEVENT
BEGIN:VEVENT
DTSTART;TZID=America/Halifax:20230322T153000
DTEND;TZID=America/Halifax:20230322T163000
DTSTAMP:20260419T142008
CREATED:20230317T002915Z
LAST-MODIFIED:20230317T002916Z
UID:10000507-1679499000-1679502600@mintomemorial.nbed.ca
SUMMARY:Girls Senior Basketball Scrimmage
DESCRIPTION:
URL:https://mintomemorial.nbed.ca/calendar/girls-senior-basketball-scrimmage/
END:VEVENT
BEGIN:VEVENT
DTSTART;TZID=America/Halifax:20230321T193000
DTEND;TZID=America/Halifax:20230321T213000
DTSTAMP:20260419T142008
CREATED:20230317T001437Z
LAST-MODIFIED:20230317T001438Z
UID:10000504-1679427000-1679434200@mintomemorial.nbed.ca
SUMMARY:Grandlake Pickleball
DESCRIPTION:
URL:https://mintomemorial.nbed.ca/calendar/grandlake-pickleball-3/
END:VEVENT
BEGIN:VEVENT
DTSTART;TZID=America/Halifax:20230321T173000
DTEND;TZID=America/Halifax:20230321T200000
DTSTAMP:20260419T142008
CREATED:20230315T162808Z
LAST-MODIFIED:20230315T162808Z
UID:10000500-1679419800-1679428800@mintomemorial.nbed.ca
SUMMARY:Senior Girls Away Games
DESCRIPTION:@ Bellisle Regional High School 5:45pm vs BRHS\, 5:45pm vs CFAS
URL:https://mintomemorial.nbed.ca/calendar/senior-girls-away-games/
END:VEVENT
BEGIN:VEVENT
DTSTART;TZID=America/Halifax:20230321T173000
DTEND;TZID=America/Halifax:20230321T193000
DTSTAMP:20260419T142008
CREATED:20230317T114250Z
LAST-MODIFIED:20230317T114250Z
UID:10000509-1679419800-1679427000@mintomemorial.nbed.ca
SUMMARY:Senior Boys Volleyball Practice
DESCRIPTION:
URL:https://mintomemorial.nbed.ca/calendar/senior-boys-volleyball-practice-8/
END:VEVENT
BEGIN:VEVENT
DTSTART;TZID=America/Halifax:20230321T153000
DTEND;TZID=America/Halifax:20230321T170000
DTSTAMP:20260419T142008
CREATED:20230315T162132Z
LAST-MODIFIED:20230315T162133Z
UID:10000499-1679412600-1679418000@mintomemorial.nbed.ca
SUMMARY:Badminton Practice
DESCRIPTION:
URL:https://mintomemorial.nbed.ca/calendar/badminton-practice-7/
END:VEVENT
BEGIN:VEVENT
DTSTART;TZID=America/Halifax:20230320T173000
DTEND;TZID=America/Halifax:20230320T193000
DTSTAMP:20260419T142008
CREATED:20230315T162013Z
LAST-MODIFIED:20230315T162013Z
UID:10000498-1679333400-1679340600@mintomemorial.nbed.ca
SUMMARY:Senior Boys Volleyball Practice
DESCRIPTION:
URL:https://mintomemorial.nbed.ca/calendar/senior-boys-volleyball-practice-7/
END:VEVENT
BEGIN:VEVENT
DTSTART;TZID=America/Halifax:20230320T153000
DTEND;TZID=America/Halifax:20230320T170000
DTSTAMP:20260419T142008
CREATED:20230315T161900Z
LAST-MODIFIED:20230315T161901Z
UID:10000497-1679326200-1679331600@mintomemorial.nbed.ca
SUMMARY:JV Girls Volleyball Practice
DESCRIPTION:
URL:https://mintomemorial.nbed.ca/calendar/jv-girls-volleyball-practice-9/
END:VEVENT
END:VCALENDAR