BEGIN:VCALENDAR
VERSION:2.0
PRODID:-//Minto Memorial High School - ECPv6.15.20//NONSGML v1.0//EN
CALSCALE:GREGORIAN
METHOD:PUBLISH
X-WR-CALNAME:Minto Memorial High School
X-ORIGINAL-URL:https://mintomemorial.nbed.ca
X-WR-CALDESC:Events for Minto Memorial High School
REFRESH-INTERVAL;VALUE=DURATION:PT1H
X-Robots-Tag:noindex
X-PUBLISHED-TTL:PT1H
BEGIN:VTIMEZONE
TZID:America/Halifax
BEGIN:DAYLIGHT
TZOFFSETFROM:-0400
TZOFFSETTO:-0300
TZNAME:ADT
DTSTART:20220313T060000
END:DAYLIGHT
BEGIN:STANDARD
TZOFFSETFROM:-0300
TZOFFSETTO:-0400
TZNAME:AST
DTSTART:20221106T050000
END:STANDARD
BEGIN:DAYLIGHT
TZOFFSETFROM:-0400
TZOFFSETTO:-0300
TZNAME:ADT
DTSTART:20230312T060000
END:DAYLIGHT
BEGIN:STANDARD
TZOFFSETFROM:-0300
TZOFFSETTO:-0400
TZNAME:AST
DTSTART:20231105T050000
END:STANDARD
BEGIN:DAYLIGHT
TZOFFSETFROM:-0400
TZOFFSETTO:-0300
TZNAME:ADT
DTSTART:20240310T060000
END:DAYLIGHT
BEGIN:STANDARD
TZOFFSETFROM:-0300
TZOFFSETTO:-0400
TZNAME:AST
DTSTART:20241103T050000
END:STANDARD
END:VTIMEZONE
BEGIN:VTIMEZONE
TZID:America/Moncton
BEGIN:DAYLIGHT
TZOFFSETFROM:-0400
TZOFFSETTO:-0300
TZNAME:ADT
DTSTART:20220313T060000
END:DAYLIGHT
BEGIN:STANDARD
TZOFFSETFROM:-0300
TZOFFSETTO:-0400
TZNAME:AST
DTSTART:20221106T050000
END:STANDARD
BEGIN:DAYLIGHT
TZOFFSETFROM:-0400
TZOFFSETTO:-0300
TZNAME:ADT
DTSTART:20230312T060000
END:DAYLIGHT
BEGIN:STANDARD
TZOFFSETFROM:-0300
TZOFFSETTO:-0400
TZNAME:AST
DTSTART:20231105T050000
END:STANDARD
BEGIN:DAYLIGHT
TZOFFSETFROM:-0400
TZOFFSETTO:-0300
TZNAME:ADT
DTSTART:20240310T060000
END:DAYLIGHT
BEGIN:STANDARD
TZOFFSETFROM:-0300
TZOFFSETTO:-0400
TZNAME:AST
DTSTART:20241103T050000
END:STANDARD
END:VTIMEZONE
BEGIN:VEVENT
DTSTART;TZID=America/Halifax:20230321T193000
DTEND;TZID=America/Halifax:20230321T213000
DTSTAMP:20260419T173852
CREATED:20230317T001437Z
LAST-MODIFIED:20230317T001438Z
UID:10000504-1679427000-1679434200@mintomemorial.nbed.ca
SUMMARY:Grandlake Pickleball
DESCRIPTION:
URL:https://mintomemorial.nbed.ca/calendar/grandlake-pickleball-3/
END:VEVENT
BEGIN:VEVENT
DTSTART;TZID=America/Halifax:20230321T173000
DTEND;TZID=America/Halifax:20230321T200000
DTSTAMP:20260419T173852
CREATED:20230315T162808Z
LAST-MODIFIED:20230315T162808Z
UID:10000500-1679419800-1679428800@mintomemorial.nbed.ca
SUMMARY:Senior Girls Away Games
DESCRIPTION:@ Bellisle Regional High School 5:45pm vs BRHS\, 5:45pm vs CFAS
URL:https://mintomemorial.nbed.ca/calendar/senior-girls-away-games/
END:VEVENT
BEGIN:VEVENT
DTSTART;TZID=America/Halifax:20230321T173000
DTEND;TZID=America/Halifax:20230321T193000
DTSTAMP:20260419T173852
CREATED:20230317T114250Z
LAST-MODIFIED:20230317T114250Z
UID:10000509-1679419800-1679427000@mintomemorial.nbed.ca
SUMMARY:Senior Boys Volleyball Practice
DESCRIPTION:
URL:https://mintomemorial.nbed.ca/calendar/senior-boys-volleyball-practice-8/
END:VEVENT
BEGIN:VEVENT
DTSTART;TZID=America/Halifax:20230321T153000
DTEND;TZID=America/Halifax:20230321T170000
DTSTAMP:20260419T173852
CREATED:20230315T162132Z
LAST-MODIFIED:20230315T162133Z
UID:10000499-1679412600-1679418000@mintomemorial.nbed.ca
SUMMARY:Badminton Practice
DESCRIPTION:
URL:https://mintomemorial.nbed.ca/calendar/badminton-practice-7/
END:VEVENT
BEGIN:VEVENT
DTSTART;TZID=America/Halifax:20230320T173000
DTEND;TZID=America/Halifax:20230320T193000
DTSTAMP:20260419T173852
CREATED:20230315T162013Z
LAST-MODIFIED:20230315T162013Z
UID:10000498-1679333400-1679340600@mintomemorial.nbed.ca
SUMMARY:Senior Boys Volleyball Practice
DESCRIPTION:
URL:https://mintomemorial.nbed.ca/calendar/senior-boys-volleyball-practice-7/
END:VEVENT
BEGIN:VEVENT
DTSTART;TZID=America/Halifax:20230320T153000
DTEND;TZID=America/Halifax:20230320T170000
DTSTAMP:20260419T173852
CREATED:20230315T161900Z
LAST-MODIFIED:20230315T161901Z
UID:10000497-1679326200-1679331600@mintomemorial.nbed.ca
SUMMARY:JV Girls Volleyball Practice
DESCRIPTION:
URL:https://mintomemorial.nbed.ca/calendar/jv-girls-volleyball-practice-9/
END:VEVENT
BEGIN:VEVENT
DTSTART;TZID=America/Halifax:20230320T150000
DTEND;TZID=America/Halifax:20230320T173000
DTSTAMP:20260419T173852
CREATED:20230320T160502Z
LAST-MODIFIED:20230320T160502Z
UID:10000510-1679324400-1679333400@mintomemorial.nbed.ca
SUMMARY:Badminton Away Games
DESCRIPTION:@ CFAS
URL:https://mintomemorial.nbed.ca/calendar/badminton-away-games/
END:VEVENT
BEGIN:VEVENT
DTSTART;TZID=America/Halifax:20230319T193000
DTEND;TZID=America/Halifax:20230319T213000
DTSTAMP:20260419T173852
CREATED:20230315T154704Z
LAST-MODIFIED:20230315T154705Z
UID:10000496-1679254200-1679261400@mintomemorial.nbed.ca
SUMMARY:Grandlake Pickleball
DESCRIPTION:
URL:https://mintomemorial.nbed.ca/calendar/grandlake-pickleball-2/
END:VEVENT
BEGIN:VEVENT
DTSTART;TZID=America/Halifax:20230317T000000
DTEND;TZID=America/Halifax:20230317T235959
DTSTAMP:20260419T173852
CREATED:20220626T012750Z
LAST-MODIFIED:20220626T012754Z
UID:10000287-1679011200-1679097599@mintomemorial.nbed.ca
SUMMARY:St. Patrick's Day
DESCRIPTION:
URL:https://mintomemorial.nbed.ca/calendar/st-patricks-day/
ATTACH;FMTTYPE=image/png:https://mintomemorial.nbed.ca/wp-content/uploads/sites/8/2022/06/Irish.png
END:VEVENT
BEGIN:VEVENT
DTSTART;TZID=America/Halifax:20230316T193000
DTEND;TZID=America/Halifax:20230316T213000
DTSTAMP:20260419T173852
CREATED:20230315T154134Z
LAST-MODIFIED:20230315T154134Z
UID:10000495-1678995000-1679002200@mintomemorial.nbed.ca
SUMMARY:Grandlake Pickleball
DESCRIPTION:
URL:https://mintomemorial.nbed.ca/calendar/grandlake-pickleball/
END:VEVENT
BEGIN:VEVENT
DTSTART;TZID=America/Halifax:20230316T183000
DTEND;TZID=America/Halifax:20230316T210000
DTSTAMP:20260419T173852
CREATED:20230227T131841Z
LAST-MODIFIED:20230315T154450Z
UID:10000479-1678991400-1679000400@mintomemorial.nbed.ca
SUMMARY:JV Girls Volleyball Away Games
DESCRIPTION:@ CFAS 6:45pm vs PRHS & 8pm vs CFAS
URL:https://mintomemorial.nbed.ca/calendar/jv-girls-volleyball-practice-6/
END:VEVENT
BEGIN:VEVENT
DTSTART;TZID=America/Halifax:20230316T170000
DTEND;TZID=America/Halifax:20230316T190000
DTSTAMP:20260419T173852
CREATED:20230227T194151Z
LAST-MODIFIED:20230227T194154Z
UID:10000490-1678986000-1678993200@mintomemorial.nbed.ca
SUMMARY:Senior Girls Volleyball Practice
DESCRIPTION:
URL:https://mintomemorial.nbed.ca/calendar/senior-girls-volleyball-practice-8/
END:VEVENT
BEGIN:VEVENT
DTSTART;TZID=America/Halifax:20230315T173000
DTEND;TZID=America/Halifax:20230315T190000
DTSTAMP:20260419T173852
CREATED:20230228T192222Z
LAST-MODIFIED:20230301T132431Z
UID:10000491-1678901400-1678906800@mintomemorial.nbed.ca
SUMMARY:Badminton Practice
DESCRIPTION:
URL:https://mintomemorial.nbed.ca/calendar/badminton-practice-6/
END:VEVENT
BEGIN:VEVENT
DTSTART;TZID=America/Halifax:20230315T153000
DTEND;TZID=America/Halifax:20230315T173000
DTSTAMP:20260419T173852
CREATED:20230301T132220Z
LAST-MODIFIED:20230301T132223Z
UID:10000493-1678894200-1678901400@mintomemorial.nbed.ca
SUMMARY:Senior Boys Volleyball Practice
DESCRIPTION:
URL:https://mintomemorial.nbed.ca/calendar/senior-boys-volleyball-practice-6/
END:VEVENT
BEGIN:VEVENT
DTSTART;TZID=America/Halifax:20230314T170000
DTEND;TZID=America/Halifax:20230314T190000
DTSTAMP:20260419T173852
CREATED:20230227T194023Z
LAST-MODIFIED:20230227T194025Z
UID:10000489-1678813200-1678820400@mintomemorial.nbed.ca
SUMMARY:Senior Girls Volleyball Practice
DESCRIPTION:
URL:https://mintomemorial.nbed.ca/calendar/senior-girls-volleyball-practice-7/
END:VEVENT
BEGIN:VEVENT
DTSTART;TZID=America/Halifax:20230314T153000
DTEND;TZID=America/Halifax:20230314T170000
DTSTAMP:20260419T173852
CREATED:20230227T132136Z
LAST-MODIFIED:20230227T132138Z
UID:10000481-1678807800-1678813200@mintomemorial.nbed.ca
SUMMARY:Badminton Practice
DESCRIPTION:
URL:https://mintomemorial.nbed.ca/calendar/badminton-practice-5/
END:VEVENT
BEGIN:VEVENT
DTSTART;TZID=America/Halifax:20230313T173000
DTEND;TZID=America/Halifax:20230313T193000
DTSTAMP:20260419T173852
CREATED:20230301T132059Z
LAST-MODIFIED:20230627T175804Z
UID:10000492-1678728600-1678735800@mintomemorial.nbed.ca
SUMMARY:Senior Boys Volleyball Practice
DESCRIPTION:
URL:https://mintomemorial.nbed.ca/calendar/senior-boys-volleyball-practice-5/
END:VEVENT
BEGIN:VEVENT
DTSTART;TZID=America/Halifax:20230313T160000
DTEND;TZID=America/Halifax:20230313T173000
DTSTAMP:20260419T173852
CREATED:20230227T131743Z
LAST-MODIFIED:20230312T234523Z
UID:10000477-1678723200-1678728600@mintomemorial.nbed.ca
SUMMARY:JV Girls Volleyball Practice
DESCRIPTION:
URL:https://mintomemorial.nbed.ca/calendar/jv-girls-volleyball-practice-5/
END:VEVENT
BEGIN:VEVENT
DTSTART;TZID=America/Halifax:20230309T130000
DTEND;TZID=America/Halifax:20230309T143000
DTSTAMP:20260419T173852
CREATED:20230227T131608Z
LAST-MODIFIED:20230227T131611Z
UID:10000478-1678366800-1678372200@mintomemorial.nbed.ca
SUMMARY:Senior Boys Volleyball Practice
DESCRIPTION:
URL:https://mintomemorial.nbed.ca/calendar/senior-boys-volleyball-practice-4/
END:VEVENT
BEGIN:VEVENT
DTSTART;TZID=America/Halifax:20230308T100000
DTEND;TZID=America/Halifax:20230308T113000
DTSTAMP:20260419T173852
CREATED:20230303T131749Z
LAST-MODIFIED:20230627T181334Z
UID:10000403-1678269600-1678275000@mintomemorial.nbed.ca
SUMMARY:JV Girls Volleyball Practice
DESCRIPTION:
URL:https://mintomemorial.nbed.ca/calendar/jv-girls-volleyball-practice-8/
END:VEVENT
BEGIN:VEVENT
DTSTART;TZID=America/Halifax:20230307T130000
DTEND;TZID=America/Halifax:20230307T143000
DTSTAMP:20260419T173852
CREATED:20230227T131521Z
LAST-MODIFIED:20230227T131523Z
UID:10000475-1678194000-1678199400@mintomemorial.nbed.ca
SUMMARY:Senior Boys Volleyball Practice
DESCRIPTION:
URL:https://mintomemorial.nbed.ca/calendar/senior-boys-volleyball-practice-3/
END:VEVENT
BEGIN:VEVENT
DTSTART;TZID=America/Halifax:20230306T100000
DTEND;TZID=America/Halifax:20230306T113000
DTSTAMP:20260419T173852
CREATED:20230303T131704Z
LAST-MODIFIED:20230303T131707Z
UID:10000401-1678096800-1678102200@mintomemorial.nbed.ca
SUMMARY:JV Girls Volleyball Practice
DESCRIPTION:
URL:https://mintomemorial.nbed.ca/calendar/jv-girls-volleyball-practice-7/
END:VEVENT
BEGIN:VEVENT
DTSTART;TZID=America/Halifax:20230306T000000
DTEND;TZID=America/Halifax:20230310T235959
DTSTAMP:20260419T173852
CREATED:20220626T011845Z
LAST-MODIFIED:20220626T011849Z
UID:10000283-1678060800-1678492799@mintomemorial.nbed.ca
SUMMARY:March Break
DESCRIPTION:No school.
URL:https://mintomemorial.nbed.ca/calendar/march-break/
ATTACH;FMTTYPE=image/png:https://mintomemorial.nbed.ca/wp-content/uploads/sites/8/2022/06/Date.png
END:VEVENT
BEGIN:VEVENT
DTSTART;TZID=America/Moncton:20230306T000000
DTEND;TZID=America/Moncton:20230310T235959
DTSTAMP:20260419T173852
CREATED:20220502T161425Z
LAST-MODIFIED:20220921T130636Z
UID:10000261-1678060800-1678492799@mintomemorial.nbed.ca
SUMMARY:March Break
DESCRIPTION:
URL:https://mintomemorial.nbed.ca/calendar/march-break-2/
END:VEVENT
BEGIN:VEVENT
DTSTART;TZID=America/Halifax:20230305T193000
DTEND;TZID=America/Halifax:20230305T213000
DTSTAMP:20260419T173852
CREATED:20230301T160233Z
LAST-MODIFIED:20230301T160235Z
UID:10000494-1678044600-1678051800@mintomemorial.nbed.ca
SUMMARY:Grand Lake Pickleball
DESCRIPTION:
URL:https://mintomemorial.nbed.ca/calendar/grand-lake-pickleball-32/
END:VEVENT
BEGIN:VEVENT
DTSTART;TZID=America/Halifax:20230303T153000
DTEND;TZID=America/Halifax:20230303T170000
DTSTAMP:20260419T173852
CREATED:20230227T131424Z
LAST-MODIFIED:20230227T131426Z
UID:10000476-1677857400-1677862800@mintomemorial.nbed.ca
SUMMARY:JV Girls Volleyball Practice
DESCRIPTION:
URL:https://mintomemorial.nbed.ca/calendar/jv-girls-volleyball-practice-4/
END:VEVENT
BEGIN:VEVENT
DTSTART;TZID=America/Halifax:20230303T000000
DTEND;TZID=America/Halifax:20230303T235959
DTSTAMP:20260419T173852
CREATED:20230227T153356Z
LAST-MODIFIED:20230227T153358Z
UID:10000486-1677801600-1677887999@mintomemorial.nbed.ca
SUMMARY:Colour Day
DESCRIPTION:Dress in the colour assigned to your team.• Grade 9: Red• Grade 10: Green• Grade 11: Blue• Grade 12: Black
URL:https://mintomemorial.nbed.ca/calendar/colour-day/
END:VEVENT
BEGIN:VEVENT
DTSTART;TZID=America/Halifax:20230302T193000
DTEND;TZID=America/Halifax:20230302T213000
DTSTAMP:20260419T173852
CREATED:20230217T205206Z
LAST-MODIFIED:20230217T205209Z
UID:10000467-1677785400-1677792600@mintomemorial.nbed.ca
SUMMARY:Grand Lake Pickleball
DESCRIPTION:
URL:https://mintomemorial.nbed.ca/calendar/grand-lake-pickleball-31/
END:VEVENT
BEGIN:VEVENT
DTSTART;TZID=America/Halifax:20230302T170000
DTEND;TZID=America/Halifax:20230302T183000
DTSTAMP:20260419T173852
CREATED:20230227T131956Z
LAST-MODIFIED:20230627T194848Z
UID:10000480-1677776400-1677781800@mintomemorial.nbed.ca
SUMMARY:Badminton Practice- CANCELLED WEATHER
DESCRIPTION:
URL:https://mintomemorial.nbed.ca/calendar/badminton-practice-4/
END:VEVENT
BEGIN:VEVENT
DTSTART;TZID=America/Halifax:20230302T153000
DTEND;TZID=America/Halifax:20230302T170000
DTSTAMP:20260419T173852
CREATED:20230227T131339Z
LAST-MODIFIED:20230302T183845Z
UID:10000474-1677771000-1677776400@mintomemorial.nbed.ca
SUMMARY:JV Girls Volleyball Practice- CANCELLED WEATHER
DESCRIPTION:
URL:https://mintomemorial.nbed.ca/calendar/jv-girls-volleyball-practice-3/
END:VEVENT
END:VCALENDAR