BEGIN:VCALENDAR
VERSION:2.0
PRODID:-//Minto Memorial High School - ECPv6.15.20//NONSGML v1.0//EN
CALSCALE:GREGORIAN
METHOD:PUBLISH
X-WR-CALNAME:Minto Memorial High School
X-ORIGINAL-URL:https://mintomemorial.nbed.ca
X-WR-CALDESC:Events for Minto Memorial High School
REFRESH-INTERVAL;VALUE=DURATION:PT1H
X-Robots-Tag:noindex
X-PUBLISHED-TTL:PT1H
BEGIN:VTIMEZONE
TZID:America/Halifax
BEGIN:DAYLIGHT
TZOFFSETFROM:-0400
TZOFFSETTO:-0300
TZNAME:ADT
DTSTART:20220313T060000
END:DAYLIGHT
BEGIN:STANDARD
TZOFFSETFROM:-0300
TZOFFSETTO:-0400
TZNAME:AST
DTSTART:20221106T050000
END:STANDARD
BEGIN:DAYLIGHT
TZOFFSETFROM:-0400
TZOFFSETTO:-0300
TZNAME:ADT
DTSTART:20230312T060000
END:DAYLIGHT
BEGIN:STANDARD
TZOFFSETFROM:-0300
TZOFFSETTO:-0400
TZNAME:AST
DTSTART:20231105T050000
END:STANDARD
BEGIN:DAYLIGHT
TZOFFSETFROM:-0400
TZOFFSETTO:-0300
TZNAME:ADT
DTSTART:20240310T060000
END:DAYLIGHT
BEGIN:STANDARD
TZOFFSETFROM:-0300
TZOFFSETTO:-0400
TZNAME:AST
DTSTART:20241103T050000
END:STANDARD
END:VTIMEZONE
BEGIN:VTIMEZONE
TZID:America/Moncton
BEGIN:DAYLIGHT
TZOFFSETFROM:-0400
TZOFFSETTO:-0300
TZNAME:ADT
DTSTART:20220313T060000
END:DAYLIGHT
BEGIN:STANDARD
TZOFFSETFROM:-0300
TZOFFSETTO:-0400
TZNAME:AST
DTSTART:20221106T050000
END:STANDARD
BEGIN:DAYLIGHT
TZOFFSETFROM:-0400
TZOFFSETTO:-0300
TZNAME:ADT
DTSTART:20230312T060000
END:DAYLIGHT
BEGIN:STANDARD
TZOFFSETFROM:-0300
TZOFFSETTO:-0400
TZNAME:AST
DTSTART:20231105T050000
END:STANDARD
BEGIN:DAYLIGHT
TZOFFSETFROM:-0400
TZOFFSETTO:-0300
TZNAME:ADT
DTSTART:20240310T060000
END:DAYLIGHT
BEGIN:STANDARD
TZOFFSETFROM:-0300
TZOFFSETTO:-0400
TZNAME:AST
DTSTART:20241103T050000
END:STANDARD
END:VTIMEZONE
BEGIN:VEVENT
DTSTART;TZID=America/Halifax:20230222T173000
DTEND;TZID=America/Halifax:20230222T193000
DTSTAMP:20260420T003904
CREATED:20230217T203839Z
LAST-MODIFIED:20230217T203842Z
UID:10000459-1677087000-1677094200@mintomemorial.nbed.ca
SUMMARY:Senior Girls Volleyball Practice
DESCRIPTION:
URL:https://mintomemorial.nbed.ca/calendar/senior-girls-volleyball-practice-3/
END:VEVENT
BEGIN:VEVENT
DTSTART;TZID=America/Halifax:20230222T153000
DTEND;TZID=America/Halifax:20230222T173000
DTSTAMP:20260420T003904
CREATED:20230217T203731Z
LAST-MODIFIED:20230217T203733Z
UID:10000458-1677079800-1677087000@mintomemorial.nbed.ca
SUMMARY:Boys Volleyball Practice
DESCRIPTION:
URL:https://mintomemorial.nbed.ca/calendar/boys-volleyball-practice/
END:VEVENT
BEGIN:VEVENT
DTSTART;TZID=America/Halifax:20230221T193000
DTEND;TZID=America/Halifax:20230221T213000
DTSTAMP:20260420T003904
CREATED:20230217T204452Z
LAST-MODIFIED:20230217T204454Z
UID:10000463-1677007800-1677015000@mintomemorial.nbed.ca
SUMMARY:Grand Lake Pickleball
DESCRIPTION:
URL:https://mintomemorial.nbed.ca/calendar/grand-lake-pickleball-27/
END:VEVENT
BEGIN:VEVENT
DTSTART;TZID=America/Halifax:20230221T153000
DTEND;TZID=America/Halifax:20230221T163000
DTSTAMP:20260420T003904
CREATED:20230214T120629Z
LAST-MODIFIED:20230221T122715Z
UID:10000456-1676993400-1676997000@mintomemorial.nbed.ca
SUMMARY:Badminton Practice
DESCRIPTION:
URL:https://mintomemorial.nbed.ca/calendar/badminton-practice/
END:VEVENT
BEGIN:VEVENT
DTSTART;TZID=America/Halifax:20230220T000000
DTEND;TZID=America/Halifax:20230220T235959
DTSTAMP:20260420T003904
CREATED:20220626T011637Z
LAST-MODIFIED:20220626T011641Z
UID:10000282-1676851200-1676937599@mintomemorial.nbed.ca
SUMMARY:Family Day
DESCRIPTION:No school.
URL:https://mintomemorial.nbed.ca/calendar/family-day/
ATTACH;FMTTYPE=image/png:https://mintomemorial.nbed.ca/wp-content/uploads/sites/8/2022/06/Family-Day.png
END:VEVENT
BEGIN:VEVENT
DTSTART;TZID=America/Moncton:20230220T000000
DTEND;TZID=America/Moncton:20230220T235959
DTSTAMP:20260420T003904
CREATED:20220502T161327Z
LAST-MODIFIED:20220921T131749Z
UID:10000260-1676851200-1676937599@mintomemorial.nbed.ca
SUMMARY:Family Day
DESCRIPTION:
URL:https://mintomemorial.nbed.ca/calendar/family-day-2/
END:VEVENT
BEGIN:VEVENT
DTSTART;TZID=America/Halifax:20230219T193000
DTEND;TZID=America/Halifax:20230219T213000
DTSTAMP:20260420T003904
CREATED:20230217T204403Z
LAST-MODIFIED:20230217T204406Z
UID:10000462-1676835000-1676842200@mintomemorial.nbed.ca
SUMMARY:Grand Lake Pickleball
DESCRIPTION:
URL:https://mintomemorial.nbed.ca/calendar/grand-lake-pickleball-26/
END:VEVENT
BEGIN:VEVENT
DTSTART;TZID=America/Halifax:20230217T153000
DTEND;TZID=America/Halifax:20230217T173000
DTSTAMP:20260420T003904
CREATED:20230209T182939Z
LAST-MODIFIED:20230217T170336Z
UID:10000455-1676647800-1676655000@mintomemorial.nbed.ca
SUMMARY:Senior Girls Volleyball Practice- CANCELLED NO SCHOOL
DESCRIPTION:
URL:https://mintomemorial.nbed.ca/calendar/senior-girls-volleyball-practice-2/
END:VEVENT
BEGIN:VEVENT
DTSTART;TZID=America/Halifax:20230216T193000
DTEND;TZID=America/Halifax:20230216T213000
DTSTAMP:20260420T003904
CREATED:20230206T175152Z
LAST-MODIFIED:20230206T175156Z
UID:10000450-1676575800-1676583000@mintomemorial.nbed.ca
SUMMARY:Grand Lake Pickleball
DESCRIPTION:
URL:https://mintomemorial.nbed.ca/calendar/grand-lake-pickleball-25/
END:VEVENT
BEGIN:VEVENT
DTSTART;TZID=America/Halifax:20230216T153000
DTEND;TZID=America/Halifax:20230216T170000
DTSTAMP:20260420T003904
CREATED:20230208T191926Z
LAST-MODIFIED:20230208T191930Z
UID:10000452-1676561400-1676566800@mintomemorial.nbed.ca
SUMMARY:JV Girls VBall Practice
DESCRIPTION:
URL:https://mintomemorial.nbed.ca/calendar/jv-girls-vball-practice/
END:VEVENT
BEGIN:VEVENT
DTSTART;TZID=America/Halifax:20230215T173000
DTEND;TZID=America/Halifax:20230215T193000
DTSTAMP:20260420T003904
CREATED:20230209T182837Z
LAST-MODIFIED:20230209T182840Z
UID:10000454-1676482200-1676489400@mintomemorial.nbed.ca
SUMMARY:Senior Girls Volleyball Practice
DESCRIPTION:
URL:https://mintomemorial.nbed.ca/calendar/senior-girls-volleyball-practice/
END:VEVENT
BEGIN:VEVENT
DTSTART;TZID=America/Halifax:20230215T153000
DTEND;TZID=America/Halifax:20230215T173000
DTSTAMP:20260420T003904
CREATED:20230209T182519Z
LAST-MODIFIED:20230209T182522Z
UID:10000453-1676475000-1676482200@mintomemorial.nbed.ca
SUMMARY:Boys Volleyball Practice
DESCRIPTION:
URL:https://mintomemorial.nbed.ca/calendar/boys-volleyball-practice-2/
END:VEVENT
BEGIN:VEVENT
DTSTART;TZID=America/Halifax:20230214T193000
DTEND;TZID=America/Halifax:20230214T213000
DTSTAMP:20260420T003904
CREATED:20230206T175051Z
LAST-MODIFIED:20230206T175055Z
UID:10000449-1676403000-1676410200@mintomemorial.nbed.ca
SUMMARY:Grand Lake Pickleball
DESCRIPTION:
URL:https://mintomemorial.nbed.ca/calendar/grand-lake-pickleball-24/
END:VEVENT
BEGIN:VEVENT
DTSTART;TZID=America/Halifax:20230213T153000
DTEND;TZID=America/Halifax:20230213T170000
DTSTAMP:20260420T003904
CREATED:20230208T191831Z
LAST-MODIFIED:20230208T192021Z
UID:10000451-1676302200-1676307600@mintomemorial.nbed.ca
SUMMARY:JV Girls VBall Tryouts
DESCRIPTION:
URL:https://mintomemorial.nbed.ca/calendar/jv-girls-tryouts/
END:VEVENT
BEGIN:VEVENT
DTSTART;TZID=America/Halifax:20230212T193000
DTEND;TZID=America/Halifax:20230212T213000
DTSTAMP:20260420T003904
CREATED:20230206T174953Z
LAST-MODIFIED:20230206T174957Z
UID:10000448-1676230200-1676237400@mintomemorial.nbed.ca
SUMMARY:Grand Lake Pickleball
DESCRIPTION:
URL:https://mintomemorial.nbed.ca/calendar/grand-lake-pickleball-23/
END:VEVENT
BEGIN:VEVENT
DTSTART;TZID=America/Halifax:20230209T193000
DTEND;TZID=America/Halifax:20230209T213000
DTSTAMP:20260420T003904
CREATED:20230206T174900Z
LAST-MODIFIED:20230206T174903Z
UID:10000447-1675971000-1675978200@mintomemorial.nbed.ca
SUMMARY:Grand Lake Pickleball
DESCRIPTION:
URL:https://mintomemorial.nbed.ca/calendar/grand-lake-pickleball-22/
END:VEVENT
BEGIN:VEVENT
DTSTART;TZID=America/Halifax:20230209T170000
DTEND;TZID=America/Halifax:20230209T193000
DTSTAMP:20260420T003904
CREATED:20230124T205750Z
LAST-MODIFIED:20230124T205753Z
UID:10000444-1675962000-1675971000@mintomemorial.nbed.ca
SUMMARY:Girls Volleyball Tryouts
DESCRIPTION:
URL:https://mintomemorial.nbed.ca/calendar/girls-volleyball-tryouts-2/
END:VEVENT
BEGIN:VEVENT
DTSTART;TZID=America/Halifax:20230208T173000
DTEND;TZID=America/Halifax:20230208T193000
DTSTAMP:20260420T003904
CREATED:20230124T205514Z
LAST-MODIFIED:20230124T205516Z
UID:10000442-1675877400-1675884600@mintomemorial.nbed.ca
SUMMARY:Boys Volleyball Tryouts
DESCRIPTION:
URL:https://mintomemorial.nbed.ca/calendar/boys-volleyball-tryouts-2/
END:VEVENT
BEGIN:VEVENT
DTSTART;TZID=America/Halifax:20230207T193000
DTEND;TZID=America/Halifax:20230207T213000
DTSTAMP:20260420T003904
CREATED:20230206T174752Z
LAST-MODIFIED:20230206T174756Z
UID:10000446-1675798200-1675805400@mintomemorial.nbed.ca
SUMMARY:Grand Lake Pickleball
DESCRIPTION:
URL:https://mintomemorial.nbed.ca/calendar/grand-lake-pickleball-21/
END:VEVENT
BEGIN:VEVENT
DTSTART;TZID=America/Halifax:20230207T170000
DTEND;TZID=America/Halifax:20230207T193000
DTSTAMP:20260420T003904
CREATED:20230124T205651Z
LAST-MODIFIED:20230124T205654Z
UID:10000443-1675789200-1675798200@mintomemorial.nbed.ca
SUMMARY:Girls Volleyball Tryouts
DESCRIPTION:This tryout is for all girls looking to play volleyball this season.  Both JV and Senior Girls!
URL:https://mintomemorial.nbed.ca/calendar/girls-volleyball-tryouts/
END:VEVENT
BEGIN:VEVENT
DTSTART;TZID=America/Halifax:20230206T173000
DTEND;TZID=America/Halifax:20230206T193000
DTSTAMP:20260420T003904
CREATED:20230124T205353Z
LAST-MODIFIED:20230124T205355Z
UID:10000441-1675704600-1675711800@mintomemorial.nbed.ca
SUMMARY:Boys Volleyball Tryouts
DESCRIPTION:
URL:https://mintomemorial.nbed.ca/calendar/boys-volleyball-tryouts/
END:VEVENT
BEGIN:VEVENT
DTSTART;TZID=America/Halifax:20230205T193000
DTEND;TZID=America/Halifax:20230205T213000
DTSTAMP:20260420T003904
CREATED:20230206T174639Z
LAST-MODIFIED:20230206T174642Z
UID:10000445-1675625400-1675632600@mintomemorial.nbed.ca
SUMMARY:Grand Lake Pickleball
DESCRIPTION:
URL:https://mintomemorial.nbed.ca/calendar/grand-lake-pickleball-20/
END:VEVENT
BEGIN:VEVENT
DTSTART;TZID=America/Halifax:20230204T120000
DTEND;TZID=America/Halifax:20230204T150000
DTSTAMP:20260420T003904
CREATED:20221114T010827Z
LAST-MODIFIED:20230203T172029Z
UID:10000378-1675512000-1675522800@mintomemorial.nbed.ca
SUMMARY:Away Basketball Games
DESCRIPTION:Girls @ PRHS 12pm \n\n\n\nBoys @ PRHS 1:30pm
URL:https://mintomemorial.nbed.ca/calendar/away-basketball-games-7/
END:VEVENT
BEGIN:VEVENT
DTSTART;TZID=America/Halifax:20230203T180000
DTEND;TZID=America/Halifax:20230203T200000
DTSTAMP:20260420T003904
CREATED:20230102T202419Z
LAST-MODIFIED:20230102T202422Z
UID:10000343-1675447200-1675454400@mintomemorial.nbed.ca
SUMMARY:Away Basketball Games
DESCRIPTION:Girls @ CNCS 6pm\, Boys @ CNCS 7:30pm
URL:https://mintomemorial.nbed.ca/calendar/away-basketball-games-8/
END:VEVENT
BEGIN:VEVENT
DTSTART;TZID=America/Halifax:20230202T083000
DTEND;TZID=America/Halifax:20230202T170000
DTSTAMP:20260420T003904
CREATED:20230109T125224Z
LAST-MODIFIED:20230109T125228Z
UID:10000352-1675326600-1675357200@mintomemorial.nbed.ca
SUMMARY:Crabbe Mountain Ski Trip
DESCRIPTION:
URL:https://mintomemorial.nbed.ca/calendar/crabbe-mountain-ski-trip/
END:VEVENT
BEGIN:VEVENT
DTSTART;TZID=America/Halifax:20230201T173000
DTEND;TZID=America/Halifax:20230201T190000
DTSTAMP:20260420T003904
CREATED:20230124T205308Z
LAST-MODIFIED:20230124T205311Z
UID:10000440-1675272600-1675278000@mintomemorial.nbed.ca
SUMMARY:Boys Away Basketball Game
DESCRIPTION:@ Bellisle Regional High School
URL:https://mintomemorial.nbed.ca/calendar/boys-away-basketball-game-2/
END:VEVENT
BEGIN:VEVENT
DTSTART;TZID=America/Halifax:20230201T000000
DTEND;TZID=America/Halifax:20230201T235959
DTSTAMP:20260420T003904
CREATED:20220626T011408Z
LAST-MODIFIED:20220626T011412Z
UID:10000281-1675209600-1675295999@mintomemorial.nbed.ca
SUMMARY:Semester 2 Begins
DESCRIPTION:
URL:https://mintomemorial.nbed.ca/calendar/semester-2-begins/
ATTACH;FMTTYPE=image/png:https://mintomemorial.nbed.ca/wp-content/uploads/sites/8/2022/06/Date.png
END:VEVENT
BEGIN:VEVENT
DTSTART;TZID=America/Halifax:20230131T153000
DTEND;TZID=America/Halifax:20230131T170000
DTSTAMP:20260420T003904
CREATED:20230124T205116Z
LAST-MODIFIED:20230130T190928Z
UID:10000438-1675179000-1675184400@mintomemorial.nbed.ca
SUMMARY:Girls Basketball Practice- CANCELLED
DESCRIPTION:
URL:https://mintomemorial.nbed.ca/calendar/girls-basketball-practice-11/
END:VEVENT
BEGIN:VEVENT
DTSTART;TZID=America/Halifax:20230130T153000
DTEND;TZID=America/Halifax:20230130T173000
DTSTAMP:20260420T003904
CREATED:20230124T205159Z
LAST-MODIFIED:20230124T205202Z
UID:10000439-1675092600-1675099800@mintomemorial.nbed.ca
SUMMARY:Boys Basketball Practice
DESCRIPTION:
URL:https://mintomemorial.nbed.ca/calendar/boys-basketball-practice-8/
END:VEVENT
BEGIN:VEVENT
DTSTART;TZID=America/Halifax:20230130T000000
DTEND;TZID=America/Halifax:20230131T235959
DTSTAMP:20260420T003904
CREATED:20220626T011156Z
LAST-MODIFIED:20220626T011200Z
UID:10000280-1675036800-1675209599@mintomemorial.nbed.ca
SUMMARY:Turnaround Days
DESCRIPTION:No school for students these days.
URL:https://mintomemorial.nbed.ca/calendar/turnaround-days/
ATTACH;FMTTYPE=image/png:https://mintomemorial.nbed.ca/wp-content/uploads/sites/8/2022/06/Turn.png
END:VEVENT
END:VCALENDAR