BEGIN:VCALENDAR
VERSION:2.0
PRODID:-//Minto Memorial High School - ECPv6.15.20//NONSGML v1.0//EN
CALSCALE:GREGORIAN
METHOD:PUBLISH
X-WR-CALNAME:Minto Memorial High School
X-ORIGINAL-URL:https://mintomemorial.nbed.ca
X-WR-CALDESC:Events for Minto Memorial High School
REFRESH-INTERVAL;VALUE=DURATION:PT1H
X-Robots-Tag:noindex
X-PUBLISHED-TTL:PT1H
BEGIN:VTIMEZONE
TZID:America/Halifax
BEGIN:DAYLIGHT
TZOFFSETFROM:-0400
TZOFFSETTO:-0300
TZNAME:ADT
DTSTART:20210314T060000
END:DAYLIGHT
BEGIN:STANDARD
TZOFFSETFROM:-0300
TZOFFSETTO:-0400
TZNAME:AST
DTSTART:20211107T050000
END:STANDARD
BEGIN:DAYLIGHT
TZOFFSETFROM:-0400
TZOFFSETTO:-0300
TZNAME:ADT
DTSTART:20220313T060000
END:DAYLIGHT
BEGIN:STANDARD
TZOFFSETFROM:-0300
TZOFFSETTO:-0400
TZNAME:AST
DTSTART:20221106T050000
END:STANDARD
BEGIN:DAYLIGHT
TZOFFSETFROM:-0400
TZOFFSETTO:-0300
TZNAME:ADT
DTSTART:20230312T060000
END:DAYLIGHT
BEGIN:STANDARD
TZOFFSETFROM:-0300
TZOFFSETTO:-0400
TZNAME:AST
DTSTART:20231105T050000
END:STANDARD
END:VTIMEZONE
BEGIN:VEVENT
DTSTART;TZID=America/Halifax:20220919T000000
DTEND;TZID=America/Halifax:20220925T235959
DTSTAMP:20260422T211256
CREATED:20220916T172641Z
LAST-MODIFIED:20220916T173200Z
UID:10000249-1663545600-1664150399@mintomemorial.nbed.ca
SUMMARY:Tim Hortons Smiles Cookie Campaign
DESCRIPTION:Proceeds from local cookie sales will be going to MMHS to help support our food programs.
URL:https://mintomemorial.nbed.ca/calendar/tim-hortons-smiles-cookie-campaign/
END:VEVENT
BEGIN:VEVENT
DTSTART;TZID=America/Halifax:20220919T000000
DTEND;TZID=America/Halifax:20220919T235959
DTSTAMP:20260422T211256
CREATED:20220913T205031Z
LAST-MODIFIED:20220913T205036Z
UID:10000307-1663545600-1663631999@mintomemorial.nbed.ca
SUMMARY:National Day of Mourning
DESCRIPTION:The province will be observing the National Day of Mourning on September 19 for the passing of the Queen. \n\n\n\nSchools and provincial offices will be closed for the day. This means there will be no school for students. 
URL:https://mintomemorial.nbed.ca/calendar/national-day-of-mourning/
END:VEVENT
BEGIN:VEVENT
DTSTART;TZID=America/Halifax:20220917T000000
DTEND;TZID=America/Halifax:20220917T235959
DTSTAMP:20260422T211256
CREATED:20220915T190820Z
LAST-MODIFIED:20220915T191639Z
UID:10000315-1663372800-1663459199@mintomemorial.nbed.ca
SUMMARY:Girls & Boys Soccer Tournament
DESCRIPTION:Saturday – Girls & Boys Soccer Tournament @ Nasis Field (FCA host)Girls vs Nackawic 10am \n\n\n\nBoys vs Nackawic 11:30am
URL:https://mintomemorial.nbed.ca/calendar/girls-boys-soccer-tournament-2/
END:VEVENT
BEGIN:VEVENT
DTSTART;TZID=America/Halifax:20220916T000000
DTEND;TZID=America/Halifax:20220916T235959
DTSTAMP:20260422T211256
CREATED:20220915T184519Z
LAST-MODIFIED:20220915T191702Z
UID:10000314-1663286400-1663372799@mintomemorial.nbed.ca
SUMMARY:Girls & Boys Soccer Tournament
DESCRIPTION:Friday – Girls & Boys Soccer Tournament @ Nasis Field (FCA host)\n\n\n\nGirls vs Harvey 1pmBoys vs CNBA 2:30pmGirls vs FCA 4pmBoys vs FCA 5:30pm
URL:https://mintomemorial.nbed.ca/calendar/girls-boys-soccer-tournament/
END:VEVENT
BEGIN:VEVENT
DTSTART;TZID=America/Halifax:20220915T153000
DTEND;TZID=America/Halifax:20220915T163000
DTSTAMP:20260422T211256
CREATED:20220915T183937Z
LAST-MODIFIED:20220915T195608Z
UID:10000313-1663255800-1663259400@mintomemorial.nbed.ca
SUMMARY:Boys Soccer Practice
DESCRIPTION:
URL:https://mintomemorial.nbed.ca/calendar/boys-soccer-practice-2/
END:VEVENT
BEGIN:VEVENT
DTSTART;TZID=America/Halifax:20220914T153000
DTEND;TZID=America/Halifax:20220914T163000
DTSTAMP:20260422T211256
CREATED:20220915T183856Z
LAST-MODIFIED:20220915T185211Z
UID:10000312-1663169400-1663173000@mintomemorial.nbed.ca
SUMMARY:Girls Soccer Practice
DESCRIPTION:
URL:https://mintomemorial.nbed.ca/calendar/girls-soccer-practice-2/
END:VEVENT
BEGIN:VEVENT
DTSTART;TZID=America/Halifax:20220913T153000
DTEND;TZID=America/Halifax:20220913T163000
DTSTAMP:20260422T211256
CREATED:20220915T183755Z
LAST-MODIFIED:20220915T185153Z
UID:10000311-1663083000-1663086600@mintomemorial.nbed.ca
SUMMARY:Boys Soccer Practice
DESCRIPTION:
URL:https://mintomemorial.nbed.ca/calendar/boys-soccer-practice/
END:VEVENT
BEGIN:VEVENT
DTSTART;TZID=America/Halifax:20220912T153000
DTEND;TZID=America/Halifax:20220912T163000
DTSTAMP:20260422T211256
CREATED:20220915T182756Z
LAST-MODIFIED:20220915T183616Z
UID:10000310-1662996600-1663000200@mintomemorial.nbed.ca
SUMMARY:Girls Soccer Practice
DESCRIPTION:
URL:https://mintomemorial.nbed.ca/calendar/girls-soccer-practice/
END:VEVENT
BEGIN:VEVENT
DTSTART;TZID=America/Halifax:20220912T080000
DTEND;TZID=America/Halifax:20220916T170000
DTSTAMP:20260422T211256
CREATED:20220913T132502Z
LAST-MODIFIED:20220914T130915Z
UID:10000300-1662969600-1663347600@mintomemorial.nbed.ca
SUMMARY:Crazy Orientation Week - COW
DESCRIPTION:Monday – School Spirit Day \n\n\n\nTuesday – Twin Day \n\n\n\nWednesday – Camo Day/Country Day \n\n\n\nThursday – Jersey Day \n\n\n\nFriday – Cozy/Pajama Day
URL:https://mintomemorial.nbed.ca/calendar/crazy-orientation-week-cow/
END:VEVENT
BEGIN:VEVENT
DTSTART;TZID=America/Halifax:20220912T060000
DTEND;TZID=America/Halifax:20220912T190000
DTSTAMP:20260422T211256
CREATED:20220913T163915Z
LAST-MODIFIED:20220913T163919Z
UID:10000305-1662962400-1663009200@mintomemorial.nbed.ca
SUMMARY:Open House
DESCRIPTION:Parents and students are invited to the school for a meeting to introduce staff. There will be a brief meeting for families of grade 9 students to discuss our new LLO program. Snacks and beverages will be provided as well.
URL:https://mintomemorial.nbed.ca/calendar/open-house/
END:VEVENT
BEGIN:VEVENT
DTSTART;TZID=America/Halifax:20220906T000000
DTEND;TZID=America/Halifax:20220906T235959
DTSTAMP:20260422T211256
CREATED:20220620T124248Z
LAST-MODIFIED:20220620T124658Z
UID:10000266-1662422400-1662508799@mintomemorial.nbed.ca
SUMMARY:First Day of School
DESCRIPTION:
URL:https://mintomemorial.nbed.ca/calendar/first-day-of-school/
END:VEVENT
BEGIN:VEVENT
DTSTART;TZID=America/Halifax:20220905T000000
DTEND;TZID=America/Halifax:20220905T235959
DTSTAMP:20260422T211256
CREATED:20220624T182109Z
LAST-MODIFIED:20220624T182113Z
UID:10000269-1662336000-1662422399@mintomemorial.nbed.ca
SUMMARY:Labour Day
DESCRIPTION:
URL:https://mintomemorial.nbed.ca/calendar/labour-day/
END:VEVENT
BEGIN:VEVENT
DTSTART;TZID=America/Halifax:20220801T000000
DTEND;TZID=America/Halifax:20220801T235959
DTSTAMP:20260422T211256
CREATED:20220624T182017Z
LAST-MODIFIED:20220624T182021Z
UID:10000268-1659312000-1659398399@mintomemorial.nbed.ca
SUMMARY:NB Day
DESCRIPTION:
URL:https://mintomemorial.nbed.ca/calendar/nb-day/
END:VEVENT
BEGIN:VEVENT
DTSTART;TZID=America/Halifax:20220701T000000
DTEND;TZID=America/Halifax:20220701T235959
DTSTAMP:20260422T211256
CREATED:20220624T181831Z
LAST-MODIFIED:20220624T181831Z
UID:10000267-1656633600-1656719999@mintomemorial.nbed.ca
SUMMARY:Canada Day
DESCRIPTION:
URL:https://mintomemorial.nbed.ca/calendar/canada-day/
END:VEVENT
BEGIN:VEVENT
DTSTART;TZID=America/Halifax:20220624T000000
DTEND;TZID=America/Halifax:20220624T235959
DTSTAMP:20260422T211256
CREATED:20220626T014248Z
LAST-MODIFIED:20220708T195731Z
UID:10000297-1656028800-1656115199@mintomemorial.nbed.ca
SUMMARY:Last Day for Students
DESCRIPTION:This is the last day of the school year. Final report cards will be issued to students on this day.
URL:https://mintomemorial.nbed.ca/calendar/last-day-for-students/
ATTACH;FMTTYPE=image/png:https://mintomemorial.nbed.ca/wp-content/uploads/sites/8/2022/06/Date.png
END:VEVENT
END:VCALENDAR