BEGIN:VCALENDAR
VERSION:2.0
PRODID:-//Minto Memorial High School - ECPv6.15.20//NONSGML v1.0//EN
CALSCALE:GREGORIAN
METHOD:PUBLISH
X-WR-CALNAME:Minto Memorial High School
X-ORIGINAL-URL:https://mintomemorial.nbed.ca
X-WR-CALDESC:Events for Minto Memorial High School
REFRESH-INTERVAL;VALUE=DURATION:PT1H
X-Robots-Tag:noindex
X-PUBLISHED-TTL:PT1H
BEGIN:VTIMEZONE
TZID:America/Halifax
BEGIN:DAYLIGHT
TZOFFSETFROM:-0400
TZOFFSETTO:-0300
TZNAME:ADT
DTSTART:20210314T060000
END:DAYLIGHT
BEGIN:STANDARD
TZOFFSETFROM:-0300
TZOFFSETTO:-0400
TZNAME:AST
DTSTART:20211107T050000
END:STANDARD
BEGIN:DAYLIGHT
TZOFFSETFROM:-0400
TZOFFSETTO:-0300
TZNAME:ADT
DTSTART:20220313T060000
END:DAYLIGHT
BEGIN:STANDARD
TZOFFSETFROM:-0300
TZOFFSETTO:-0400
TZNAME:AST
DTSTART:20221106T050000
END:STANDARD
BEGIN:DAYLIGHT
TZOFFSETFROM:-0400
TZOFFSETTO:-0300
TZNAME:ADT
DTSTART:20230312T060000
END:DAYLIGHT
BEGIN:STANDARD
TZOFFSETFROM:-0300
TZOFFSETTO:-0400
TZNAME:AST
DTSTART:20231105T050000
END:STANDARD
END:VTIMEZONE
BEGIN:VEVENT
DTSTART;TZID=America/Halifax:20220801T000000
DTEND;TZID=America/Halifax:20220801T235959
DTSTAMP:20260422T225608
CREATED:20220624T182017Z
LAST-MODIFIED:20220624T182021Z
UID:10000268-1659312000-1659398399@mintomemorial.nbed.ca
SUMMARY:NB Day
DESCRIPTION:
URL:https://mintomemorial.nbed.ca/calendar/nb-day/
END:VEVENT
BEGIN:VEVENT
DTSTART;TZID=America/Halifax:20220701T000000
DTEND;TZID=America/Halifax:20220701T235959
DTSTAMP:20260422T225608
CREATED:20220624T181831Z
LAST-MODIFIED:20220624T181831Z
UID:10000267-1656633600-1656719999@mintomemorial.nbed.ca
SUMMARY:Canada Day
DESCRIPTION:
URL:https://mintomemorial.nbed.ca/calendar/canada-day/
END:VEVENT
BEGIN:VEVENT
DTSTART;TZID=America/Halifax:20220624T000000
DTEND;TZID=America/Halifax:20220624T235959
DTSTAMP:20260422T225608
CREATED:20220626T014248Z
LAST-MODIFIED:20220708T195731Z
UID:10000297-1656028800-1656115199@mintomemorial.nbed.ca
SUMMARY:Last Day for Students
DESCRIPTION:This is the last day of the school year. Final report cards will be issued to students on this day.
URL:https://mintomemorial.nbed.ca/calendar/last-day-for-students/
ATTACH;FMTTYPE=image/png:https://mintomemorial.nbed.ca/wp-content/uploads/sites/8/2022/06/Date.png
END:VEVENT
END:VCALENDAR