BEGIN:VCALENDAR
VERSION:2.0
PRODID:-//Minto Memorial High School - ECPv6.15.20//NONSGML v1.0//EN
CALSCALE:GREGORIAN
METHOD:PUBLISH
X-WR-CALNAME:Minto Memorial High School
X-ORIGINAL-URL:https://mintomemorial.nbed.ca
X-WR-CALDESC:Events for Minto Memorial High School
REFRESH-INTERVAL;VALUE=DURATION:PT1H
X-Robots-Tag:noindex
X-PUBLISHED-TTL:PT1H
BEGIN:VTIMEZONE
TZID:America/Halifax
BEGIN:DAYLIGHT
TZOFFSETFROM:-0400
TZOFFSETTO:-0300
TZNAME:ADT
DTSTART:20210314T060000
END:DAYLIGHT
BEGIN:STANDARD
TZOFFSETFROM:-0300
TZOFFSETTO:-0400
TZNAME:AST
DTSTART:20211107T050000
END:STANDARD
BEGIN:DAYLIGHT
TZOFFSETFROM:-0400
TZOFFSETTO:-0300
TZNAME:ADT
DTSTART:20220313T060000
END:DAYLIGHT
BEGIN:STANDARD
TZOFFSETFROM:-0300
TZOFFSETTO:-0400
TZNAME:AST
DTSTART:20221106T050000
END:STANDARD
BEGIN:DAYLIGHT
TZOFFSETFROM:-0400
TZOFFSETTO:-0300
TZNAME:ADT
DTSTART:20230312T060000
END:DAYLIGHT
BEGIN:STANDARD
TZOFFSETFROM:-0300
TZOFFSETTO:-0400
TZNAME:AST
DTSTART:20231105T050000
END:STANDARD
END:VTIMEZONE
BEGIN:VEVENT
DTSTART;TZID=America/Halifax:20221116T173000
DTEND;TZID=America/Halifax:20221116T193000
DTSTAMP:20260422T195034
CREATED:20221104T144402Z
LAST-MODIFIED:20221104T144405Z
UID:10000365-1668619800-1668627000@mintomemorial.nbed.ca
SUMMARY:Senior Boys Basketball Practice
DESCRIPTION:
URL:https://mintomemorial.nbed.ca/calendar/senior-boys-basketball-practice-4/
END:VEVENT
BEGIN:VEVENT
DTSTART;TZID=America/Halifax:20221115T153000
DTEND;TZID=America/Halifax:20221115T170000
DTSTAMP:20260422T195034
CREATED:20221105T192018Z
LAST-MODIFIED:20221105T192021Z
UID:10000369-1668526200-1668531600@mintomemorial.nbed.ca
SUMMARY:Girls Basketball Practice
DESCRIPTION:
URL:https://mintomemorial.nbed.ca/calendar/girls-basketball-practice-4/
END:VEVENT
BEGIN:VEVENT
DTSTART;TZID=America/Halifax:20221114T173000
DTEND;TZID=America/Halifax:20221114T193000
DTSTAMP:20260422T195034
CREATED:20221104T144328Z
LAST-MODIFIED:20221104T144330Z
UID:10000364-1668447000-1668454200@mintomemorial.nbed.ca
SUMMARY:Senior Boys Basketball Practice
DESCRIPTION:
URL:https://mintomemorial.nbed.ca/calendar/senior-boys-basketball-practice-3/
END:VEVENT
BEGIN:VEVENT
DTSTART;TZID=America/Halifax:20221114T000000
DTEND;TZID=America/Halifax:20221114T235959
DTSTAMP:20260422T195034
CREATED:20220626T003224Z
LAST-MODIFIED:20220626T003229Z
UID:10000272-1668384000-1668470399@mintomemorial.nbed.ca
SUMMARY:Report Cards Issued
DESCRIPTION:Report cards will be sent home with students this week.
URL:https://mintomemorial.nbed.ca/calendar/report-cards-issued/
ATTACH;FMTTYPE=image/png:https://mintomemorial.nbed.ca/wp-content/uploads/sites/8/2022/06/Reports.png
END:VEVENT
BEGIN:VEVENT
DTSTART;TZID=America/Halifax:20221112T110000
DTEND;TZID=America/Halifax:20221112T140000
DTSTAMP:20260422T195034
CREATED:20221105T191441Z
LAST-MODIFIED:20221105T191444Z
UID:10000366-1668250800-1668261600@mintomemorial.nbed.ca
SUMMARY:Senior Basketball Home Games
DESCRIPTION:Girls Home vs MCA 11am  \n\n\n\nBoys Home vs MCA 12:30pm
URL:https://mintomemorial.nbed.ca/calendar/senior-basketball-home-games/
END:VEVENT
BEGIN:VEVENT
DTSTART;TZID=America/Halifax:20221111T000000
DTEND;TZID=America/Halifax:20221111T235959
DTSTAMP:20260422T195034
CREATED:20220625T134223Z
LAST-MODIFIED:20220625T134228Z
UID:10000271-1668124800-1668211199@mintomemorial.nbed.ca
SUMMARY:Remembrance Day
DESCRIPTION:National holiday and there is no school for students and staff.
URL:https://mintomemorial.nbed.ca/calendar/remembrance-day/
END:VEVENT
BEGIN:VEVENT
DTSTART;TZID=America/Halifax:20221110T153000
DTEND;TZID=America/Halifax:20221110T170000
DTSTAMP:20260422T195034
CREATED:20221105T191715Z
LAST-MODIFIED:20221105T191718Z
UID:10000368-1668094200-1668099600@mintomemorial.nbed.ca
SUMMARY:Girls Basketball Practice
DESCRIPTION:
URL:https://mintomemorial.nbed.ca/calendar/girls-basketball-practice-3/
END:VEVENT
BEGIN:VEVENT
DTSTART;TZID=America/Halifax:20221110T000000
DTEND;TZID=America/Halifax:20221110T235959
DTSTAMP:20260422T195034
CREATED:20221026T161734Z
LAST-MODIFIED:20221026T161737Z
UID:10000357-1668038400-1668124799@mintomemorial.nbed.ca
SUMMARY:Picture Retakes
DESCRIPTION:Harvey Studios will be here mid-morning for picture retakes.
URL:https://mintomemorial.nbed.ca/calendar/picture-retakes/
END:VEVENT
BEGIN:VEVENT
DTSTART;TZID=America/Halifax:20221109T173000
DTEND;TZID=America/Halifax:20221109T193000
DTSTAMP:20260422T195034
CREATED:20221104T135722Z
LAST-MODIFIED:20221104T135724Z
UID:10000363-1668015000-1668022200@mintomemorial.nbed.ca
SUMMARY:Senior Boys Basketball Practice
DESCRIPTION:
URL:https://mintomemorial.nbed.ca/calendar/senior-boys-basketball-practice-2/
END:VEVENT
BEGIN:VEVENT
DTSTART;TZID=America/Halifax:20221108T153000
DTEND;TZID=America/Halifax:20221108T170000
DTSTAMP:20260422T195034
CREATED:20221105T191620Z
LAST-MODIFIED:20221105T191623Z
UID:10000367-1667921400-1667926800@mintomemorial.nbed.ca
SUMMARY:Girls Basketball Practice
DESCRIPTION:
URL:https://mintomemorial.nbed.ca/calendar/girls-basketball-practice-2/
END:VEVENT
BEGIN:VEVENT
DTSTART;TZID=America/Halifax:20221107T173000
DTEND;TZID=America/Halifax:20221107T193000
DTSTAMP:20260422T195034
CREATED:20221104T135624Z
LAST-MODIFIED:20221104T135627Z
UID:10000362-1667842200-1667849400@mintomemorial.nbed.ca
SUMMARY:Senior Boys Basketball Practice
DESCRIPTION:
URL:https://mintomemorial.nbed.ca/calendar/senior-boys-basketball-practice/
END:VEVENT
BEGIN:VEVENT
DTSTART;TZID=America/Halifax:20221103T153000
DTEND;TZID=America/Halifax:20221103T170000
DTSTAMP:20260422T195034
CREATED:20221027T121411Z
LAST-MODIFIED:20221027T121415Z
UID:10000359-1667489400-1667494800@mintomemorial.nbed.ca
SUMMARY:Girls Basketball- Practice
DESCRIPTION:
URL:https://mintomemorial.nbed.ca/calendar/girls-basketball-practice/
END:VEVENT
BEGIN:VEVENT
DTSTART;TZID=America/Halifax:20221102T173000
DTEND;TZID=America/Halifax:20221102T193000
DTSTAMP:20260422T195034
CREATED:20221030T181448Z
LAST-MODIFIED:20221030T181451Z
UID:10000361-1667410200-1667417400@mintomemorial.nbed.ca
SUMMARY:Sr. Boys Basketball Practice
DESCRIPTION:
URL:https://mintomemorial.nbed.ca/calendar/sr-boys-basketball-practice-2/
END:VEVENT
BEGIN:VEVENT
DTSTART;TZID=America/Halifax:20221101T173000
DTEND;TZID=America/Halifax:20221101T193000
DTSTAMP:20260422T195034
CREATED:20221030T181356Z
LAST-MODIFIED:20221030T181359Z
UID:10000360-1667323800-1667331000@mintomemorial.nbed.ca
SUMMARY:Sr. Boys Basketball Practice
DESCRIPTION:
URL:https://mintomemorial.nbed.ca/calendar/sr-boys-basketball-practice/
END:VEVENT
BEGIN:VEVENT
DTSTART;TZID=America/Halifax:20221101T153000
DTEND;TZID=America/Halifax:20221101T170000
DTSTAMP:20260422T195034
CREATED:20221027T121304Z
LAST-MODIFIED:20221027T121308Z
UID:10000358-1667316600-1667322000@mintomemorial.nbed.ca
SUMMARY:Girls Basketball- Tryouts/Practice
DESCRIPTION:
URL:https://mintomemorial.nbed.ca/calendar/girls-basketball-tryouts-practice/
END:VEVENT
BEGIN:VEVENT
DTSTART;TZID=America/Halifax:20221028T113000
DTEND;TZID=America/Halifax:20221028T130000
DTSTAMP:20260422T195034
CREATED:20221019T115048Z
LAST-MODIFIED:20221024T115428Z
UID:10000353-1666956600-1666962000@mintomemorial.nbed.ca
SUMMARY:ALL Senior Girls Basketball Tryouts
DESCRIPTION:All grades basketball tryouts
URL:https://mintomemorial.nbed.ca/calendar/all-senior-girls-basketball-tryouts/
END:VEVENT
BEGIN:VEVENT
DTSTART;TZID=America/Halifax:20221027T153000
DTEND;TZID=America/Halifax:20221027T170000
DTSTAMP:20260422T195034
CREATED:20221021T113443Z
LAST-MODIFIED:20221021T113446Z
UID:10000355-1666884600-1666890000@mintomemorial.nbed.ca
SUMMARY:Boys Soccer- End of Season Party
DESCRIPTION:
URL:https://mintomemorial.nbed.ca/calendar/boys-soccer-end-of-season-party/
END:VEVENT
BEGIN:VEVENT
DTSTART;TZID=America/Halifax:20221026T153000
DTEND;TZID=America/Halifax:20221026T170000
DTSTAMP:20260422T195034
CREATED:20221021T113833Z
LAST-MODIFIED:20221021T113835Z
UID:10000356-1666798200-1666803600@mintomemorial.nbed.ca
SUMMARY:Girls Soccer- End of Season Party
DESCRIPTION:
URL:https://mintomemorial.nbed.ca/calendar/girls-soccer-end-of-season-party/
END:VEVENT
BEGIN:VEVENT
DTSTART;TZID=America/Halifax:20221025T173000
DTEND;TZID=America/Halifax:20221025T193000
DTSTAMP:20260422T195034
CREATED:20221017T121020Z
LAST-MODIFIED:20221017T121024Z
UID:10000347-1666719000-1666726200@mintomemorial.nbed.ca
SUMMARY:Senior Boys Basketball Tryouts
DESCRIPTION:
URL:https://mintomemorial.nbed.ca/calendar/senior-boys-basketball-tryouts-2/
END:VEVENT
BEGIN:VEVENT
DTSTART;TZID=America/Halifax:20221024T173000
DTEND;TZID=America/Halifax:20221024T193000
DTSTAMP:20260422T195034
CREATED:20221020T154448Z
LAST-MODIFIED:20221020T154450Z
UID:10000354-1666632600-1666639800@mintomemorial.nbed.ca
SUMMARY:Senior Boys Basketball Tryouts
DESCRIPTION:
URL:https://mintomemorial.nbed.ca/calendar/senior-boys-basketball-tryouts-3/
END:VEVENT
BEGIN:VEVENT
DTSTART;TZID=America/Halifax:20221024T153000
DTEND;TZID=America/Halifax:20221024T163000
DTSTAMP:20260422T195034
CREATED:20221003T153209Z
LAST-MODIFIED:20221003T153527Z
UID:10000335-1666625400-1666629000@mintomemorial.nbed.ca
SUMMARY:Senior Girls Gr.9/10 Only Basketball Tryouts
DESCRIPTION:
URL:https://mintomemorial.nbed.ca/calendar/senior-girls-gr-9-10-only-basketball-tryouts/
END:VEVENT
BEGIN:VEVENT
DTSTART;TZID=America/Halifax:20221024T000000
DTEND;TZID=America/Halifax:20221024T235959
DTSTAMP:20260422T195034
CREATED:20221003T174609Z
LAST-MODIFIED:20221003T174615Z
UID:10000337-1666569600-1666655999@mintomemorial.nbed.ca
SUMMARY:African Dance
DESCRIPTION:
URL:https://mintomemorial.nbed.ca/calendar/african-dance/
END:VEVENT
BEGIN:VEVENT
DTSTART;TZID=America/Halifax:20221020T173000
DTEND;TZID=America/Halifax:20221020T193000
DTSTAMP:20260422T195034
CREATED:20220926T123111Z
LAST-MODIFIED:20220926T123114Z
UID:10000328-1666287000-1666294200@mintomemorial.nbed.ca
SUMMARY:Senior Boys Basketball Tryouts
DESCRIPTION:
URL:https://mintomemorial.nbed.ca/calendar/senior-boys-basketball-tryouts/
END:VEVENT
BEGIN:VEVENT
DTSTART;TZID=America/Halifax:20221019T170000
DTEND;TZID=America/Halifax:20221019T183000
DTSTAMP:20260422T195034
CREATED:20221017T002641Z
LAST-MODIFIED:20221017T002644Z
UID:10000342-1666198800-1666204200@mintomemorial.nbed.ca
SUMMARY:Boys Soccer Playoffs
DESCRIPTION:@ EDA (Ecole Etoile de L’Acadie- Rogersville)
URL:https://mintomemorial.nbed.ca/calendar/boys-soccer-playoffs/
END:VEVENT
BEGIN:VEVENT
DTSTART;TZID=America/Halifax:20221019T000000
DTEND;TZID=America/Halifax:20221019T235959
DTSTAMP:20260422T195034
CREATED:20221003T143833Z
LAST-MODIFIED:20221003T143837Z
UID:10000333-1666137600-1666223999@mintomemorial.nbed.ca
SUMMARY:Picture Day
DESCRIPTION:
URL:https://mintomemorial.nbed.ca/calendar/picture-day/
END:VEVENT
BEGIN:VEVENT
DTSTART;TZID=America/Halifax:20221018T170000
DTEND;TZID=America/Halifax:20221018T183000
DTSTAMP:20260422T195034
CREATED:20221017T005540Z
LAST-MODIFIED:20221018T150843Z
UID:10000344-1666112400-1666117800@mintomemorial.nbed.ca
SUMMARY:Girls Soccer Playoffs
DESCRIPTION:Location EDA
URL:https://mintomemorial.nbed.ca/calendar/girls-soccer-playoffs/
END:VEVENT
BEGIN:VEVENT
DTSTART;TZID=America/Halifax:20221018T153000
DTEND;TZID=America/Halifax:20221018T163000
DTSTAMP:20260422T195034
CREATED:20221017T153239Z
LAST-MODIFIED:20221017T153854Z
UID:10000349-1666107000-1666110600@mintomemorial.nbed.ca
SUMMARY:Boys Soccer Practice
DESCRIPTION:Rain or shine.  Raining in the gym.
URL:https://mintomemorial.nbed.ca/calendar/boys-soccer-practice-5/
END:VEVENT
BEGIN:VEVENT
DTSTART;TZID=America/Halifax:20221017T170000
DTEND;TZID=America/Halifax:20221017T190000
DTSTAMP:20260422T195034
CREATED:20220923T145054Z
LAST-MODIFIED:20221014T113537Z
UID:10000324-1666026000-1666033200@mintomemorial.nbed.ca
SUMMARY:Girls Home Soccer Game- Rescheduled from Oct.13th
DESCRIPTION:vs BRHS
URL:https://mintomemorial.nbed.ca/calendar/girls-home-soccer-game-4/
END:VEVENT
BEGIN:VEVENT
DTSTART;TZID=America/Halifax:20221014T173000
DTEND;TZID=America/Halifax:20221014T190000
DTSTAMP:20260422T195034
CREATED:20220921T213620Z
LAST-MODIFIED:20221007T164537Z
UID:10000318-1665768600-1665774000@mintomemorial.nbed.ca
SUMMARY:Boys Home Soccer Game- Rescheduled from Oct.6th
DESCRIPTION:vs SCS
URL:https://mintomemorial.nbed.ca/calendar/boys-home-soccer-game-3/
END:VEVENT
BEGIN:VEVENT
DTSTART;TZID=America/Halifax:20221013T173000
DTEND;TZID=America/Halifax:20221013T190000
DTSTAMP:20260422T195034
CREATED:20220923T144958Z
LAST-MODIFIED:20220923T145001Z
UID:10000323-1665682200-1665687600@mintomemorial.nbed.ca
SUMMARY:Boys Away Soccer Game
DESCRIPTION:@ BRHS
URL:https://mintomemorial.nbed.ca/calendar/boys-away-soccer-game-4/
END:VEVENT
END:VCALENDAR