BEGIN:VCALENDAR
VERSION:2.0
PRODID:-//Minto Memorial High School - ECPv6.15.20//NONSGML v1.0//EN
CALSCALE:GREGORIAN
METHOD:PUBLISH
X-WR-CALNAME:Minto Memorial High School
X-ORIGINAL-URL:https://mintomemorial.nbed.ca
X-WR-CALDESC:Events for Minto Memorial High School
REFRESH-INTERVAL;VALUE=DURATION:PT1H
X-Robots-Tag:noindex
X-PUBLISHED-TTL:PT1H
BEGIN:VTIMEZONE
TZID:America/Halifax
BEGIN:DAYLIGHT
TZOFFSETFROM:-0400
TZOFFSETTO:-0300
TZNAME:ADT
DTSTART:20210314T060000
END:DAYLIGHT
BEGIN:STANDARD
TZOFFSETFROM:-0300
TZOFFSETTO:-0400
TZNAME:AST
DTSTART:20211107T050000
END:STANDARD
BEGIN:DAYLIGHT
TZOFFSETFROM:-0400
TZOFFSETTO:-0300
TZNAME:ADT
DTSTART:20220313T060000
END:DAYLIGHT
BEGIN:STANDARD
TZOFFSETFROM:-0300
TZOFFSETTO:-0400
TZNAME:AST
DTSTART:20221106T050000
END:STANDARD
BEGIN:DAYLIGHT
TZOFFSETFROM:-0400
TZOFFSETTO:-0300
TZNAME:ADT
DTSTART:20230312T060000
END:DAYLIGHT
BEGIN:STANDARD
TZOFFSETFROM:-0300
TZOFFSETTO:-0400
TZNAME:AST
DTSTART:20231105T050000
END:STANDARD
END:VTIMEZONE
BEGIN:VEVENT
DTSTART;TZID=America/Halifax:20221019T000000
DTEND;TZID=America/Halifax:20221019T235959
DTSTAMP:20260422T231635
CREATED:20221003T143833Z
LAST-MODIFIED:20221003T143837Z
UID:10000333-1666137600-1666223999@mintomemorial.nbed.ca
SUMMARY:Picture Day
DESCRIPTION:
URL:https://mintomemorial.nbed.ca/calendar/picture-day/
END:VEVENT
BEGIN:VEVENT
DTSTART;TZID=America/Halifax:20221018T170000
DTEND;TZID=America/Halifax:20221018T183000
DTSTAMP:20260422T231635
CREATED:20221017T005540Z
LAST-MODIFIED:20221018T150843Z
UID:10000344-1666112400-1666117800@mintomemorial.nbed.ca
SUMMARY:Girls Soccer Playoffs
DESCRIPTION:Location EDA
URL:https://mintomemorial.nbed.ca/calendar/girls-soccer-playoffs/
END:VEVENT
BEGIN:VEVENT
DTSTART;TZID=America/Halifax:20221018T153000
DTEND;TZID=America/Halifax:20221018T163000
DTSTAMP:20260422T231635
CREATED:20221017T153239Z
LAST-MODIFIED:20221017T153854Z
UID:10000349-1666107000-1666110600@mintomemorial.nbed.ca
SUMMARY:Boys Soccer Practice
DESCRIPTION:Rain or shine.  Raining in the gym.
URL:https://mintomemorial.nbed.ca/calendar/boys-soccer-practice-5/
END:VEVENT
BEGIN:VEVENT
DTSTART;TZID=America/Halifax:20221017T170000
DTEND;TZID=America/Halifax:20221017T190000
DTSTAMP:20260422T231635
CREATED:20220923T145054Z
LAST-MODIFIED:20221014T113537Z
UID:10000324-1666026000-1666033200@mintomemorial.nbed.ca
SUMMARY:Girls Home Soccer Game- Rescheduled from Oct.13th
DESCRIPTION:vs BRHS
URL:https://mintomemorial.nbed.ca/calendar/girls-home-soccer-game-4/
END:VEVENT
BEGIN:VEVENT
DTSTART;TZID=America/Halifax:20221014T173000
DTEND;TZID=America/Halifax:20221014T190000
DTSTAMP:20260422T231635
CREATED:20220921T213620Z
LAST-MODIFIED:20221007T164537Z
UID:10000318-1665768600-1665774000@mintomemorial.nbed.ca
SUMMARY:Boys Home Soccer Game- Rescheduled from Oct.6th
DESCRIPTION:vs SCS
URL:https://mintomemorial.nbed.ca/calendar/boys-home-soccer-game-3/
END:VEVENT
BEGIN:VEVENT
DTSTART;TZID=America/Halifax:20221013T173000
DTEND;TZID=America/Halifax:20221013T190000
DTSTAMP:20260422T231635
CREATED:20220923T144958Z
LAST-MODIFIED:20220923T145001Z
UID:10000323-1665682200-1665687600@mintomemorial.nbed.ca
SUMMARY:Boys Away Soccer Game
DESCRIPTION:@ BRHS
URL:https://mintomemorial.nbed.ca/calendar/boys-away-soccer-game-4/
END:VEVENT
BEGIN:VEVENT
DTSTART;TZID=America/Halifax:20221013T000000
DTEND;TZID=America/Halifax:20221013T235959
DTSTAMP:20260422T231635
CREATED:20221003T144036Z
LAST-MODIFIED:20221003T144040Z
UID:10000334-1665619200-1665705599@mintomemorial.nbed.ca
SUMMARY:Grad Composite Photos
DESCRIPTION:
URL:https://mintomemorial.nbed.ca/calendar/grad-composite-photos/
END:VEVENT
BEGIN:VEVENT
DTSTART;TZID=America/Halifax:20221012T173000
DTEND;TZID=America/Halifax:20221012T190000
DTSTAMP:20260422T231635
CREATED:20220920T155924Z
LAST-MODIFIED:20220926T115837Z
UID:10000252-1665595800-1665601200@mintomemorial.nbed.ca
SUMMARY:Girls Away Soccer Game
DESCRIPTION:@ CFAS (Rescheduled from Sept. 22nd)
URL:https://mintomemorial.nbed.ca/calendar/girls-home-soccer-game/
END:VEVENT
BEGIN:VEVENT
DTSTART;TZID=America/Halifax:20221011T173000
DTEND;TZID=America/Halifax:20221011T190000
DTSTAMP:20260422T231635
CREATED:20220923T144847Z
LAST-MODIFIED:20220923T144851Z
UID:10000322-1665509400-1665514800@mintomemorial.nbed.ca
SUMMARY:Girls Away Soccer Game
DESCRIPTION:@ BRHS
URL:https://mintomemorial.nbed.ca/calendar/girls-away-soccer-game-2/
END:VEVENT
BEGIN:VEVENT
DTSTART;TZID=America/Halifax:20221011T173000
DTEND;TZID=America/Halifax:20221011T190000
DTSTAMP:20260422T231635
CREATED:20220923T144707Z
LAST-MODIFIED:20220923T144712Z
UID:10000321-1665509400-1665514800@mintomemorial.nbed.ca
SUMMARY:Boys Away Soccer Game
DESCRIPTION:@ SCS
URL:https://mintomemorial.nbed.ca/calendar/boys-away-soccer-game-3/
END:VEVENT
BEGIN:VEVENT
DTSTART;TZID=America/Halifax:20221010T173000
DTEND;TZID=America/Halifax:20221010T190000
DTSTAMP:20260422T231635
CREATED:20221007T152724Z
LAST-MODIFIED:20221007T153210Z
UID:10000340-1665423000-1665428400@mintomemorial.nbed.ca
SUMMARY:Ref Clinic @ CFAS
DESCRIPTION:Open to soccer players on the senior boys and senior girls teams who are interested in becoming a ref at MEMS.  Great to add to your resume and a good paying job!  Please let Mrs. Glenn know if you are interested.
URL:https://mintomemorial.nbed.ca/calendar/ref-clinic-cfas/
END:VEVENT
BEGIN:VEVENT
DTSTART;TZID=America/Halifax:20221010T000000
DTEND;TZID=America/Halifax:20221010T235959
DTSTAMP:20260422T231635
CREATED:20220625T133311Z
LAST-MODIFIED:20220625T133315Z
UID:10000270-1665360000-1665446399@mintomemorial.nbed.ca
SUMMARY:Thanksgiving Day
DESCRIPTION:This is a holiday and the school will be closed for students and staff.
URL:https://mintomemorial.nbed.ca/calendar/thanksgiving-day/
ATTACH;FMTTYPE=image/png:https://mintomemorial.nbed.ca/wp-content/uploads/sites/8/2022/06/Thanksgiving.png
END:VEVENT
BEGIN:VEVENT
DTSTART;TZID=America/Halifax:20221006T173000
DTEND;TZID=America/Halifax:20221006T193000
DTSTAMP:20260422T231635
CREATED:20220926T123534Z
LAST-MODIFIED:20220926T123538Z
UID:10000330-1665077400-1665084600@mintomemorial.nbed.ca
SUMMARY:Basketball Open Gym
DESCRIPTION:
URL:https://mintomemorial.nbed.ca/calendar/basketball-open-gym-4/
END:VEVENT
BEGIN:VEVENT
DTSTART;TZID=America/Halifax:20221006T173000
DTEND;TZID=America/Halifax:20221006T190000
DTSTAMP:20260422T231635
CREATED:20220921T213710Z
LAST-MODIFIED:20220921T213713Z
UID:10000319-1665077400-1665082800@mintomemorial.nbed.ca
SUMMARY:Girls Away Soccer Game
DESCRIPTION:@ SCS
URL:https://mintomemorial.nbed.ca/calendar/girls-away-soccer-game/
END:VEVENT
BEGIN:VEVENT
DTSTART;TZID=America/Halifax:20221005T200000
DTEND;TZID=America/Halifax:20221005T220000
DTSTAMP:20260422T231635
CREATED:20221003T120330Z
LAST-MODIFIED:20221004T130920Z
UID:10000332-1665000000-1665007200@mintomemorial.nbed.ca
SUMMARY:Homecoming Dance
DESCRIPTION:
URL:https://mintomemorial.nbed.ca/calendar/homecoming-dance/
END:VEVENT
BEGIN:VEVENT
DTSTART;TZID=America/Halifax:20221005T173000
DTEND;TZID=America/Halifax:20221005T190000
DTSTAMP:20260422T231635
CREATED:20220921T213428Z
LAST-MODIFIED:20220921T213431Z
UID:10000257-1664991000-1664996400@mintomemorial.nbed.ca
SUMMARY:Girls Home Soccer Game
DESCRIPTION:vs CFAS
URL:https://mintomemorial.nbed.ca/calendar/girls-home-soccer-game-3/
END:VEVENT
BEGIN:VEVENT
DTSTART;TZID=America/Halifax:20221004T173000
DTEND;TZID=America/Halifax:20221004T193000
DTSTAMP:20260422T231635
CREATED:20220926T123421Z
LAST-MODIFIED:20220926T123425Z
UID:10000329-1664904600-1664911800@mintomemorial.nbed.ca
SUMMARY:Basketball Open Gym
DESCRIPTION:
URL:https://mintomemorial.nbed.ca/calendar/basketball-open-gym-3/
END:VEVENT
BEGIN:VEVENT
DTSTART;TZID=America/Halifax:20221004T173000
DTEND;TZID=America/Halifax:20221004T190000
DTSTAMP:20260422T231635
CREATED:20220921T213203Z
LAST-MODIFIED:20220921T213310Z
UID:10000256-1664904600-1664910000@mintomemorial.nbed.ca
SUMMARY:Boys Home Soccer Game
DESCRIPTION:vs PRHS
URL:https://mintomemorial.nbed.ca/calendar/boys-home-soccer-game-2/
END:VEVENT
BEGIN:VEVENT
DTSTART;TZID=America/Halifax:20221003T173000
DTEND;TZID=America/Halifax:20221003T190000
DTSTAMP:20260422T231635
CREATED:20220920T160411Z
LAST-MODIFIED:20220923T181845Z
UID:10000253-1664818200-1664823600@mintomemorial.nbed.ca
SUMMARY:Boys Away Soccer Game
DESCRIPTION:@ Pedicodiac Regional High School (Rescheduled from Sept.22nd)
URL:https://mintomemorial.nbed.ca/calendar/boys-away-soccer-game/
END:VEVENT
BEGIN:VEVENT
DTSTART;TZID=America/Halifax:20221003T153000
DTEND;TZID=America/Halifax:20221003T163000
DTSTAMP:20260422T231635
CREATED:20220929T184809Z
LAST-MODIFIED:20220929T184814Z
UID:10000331-1664811000-1664814600@mintomemorial.nbed.ca
SUMMARY:Girls Soccer Practice
DESCRIPTION:
URL:https://mintomemorial.nbed.ca/calendar/girls-soccer-practice-5/
END:VEVENT
BEGIN:VEVENT
DTSTART;TZID=America/Halifax:20220930T000000
DTEND;TZID=America/Halifax:20220930T235959
DTSTAMP:20260422T231635
CREATED:20220926T121305Z
LAST-MODIFIED:20220926T121421Z
UID:10000326-1664496000-1664582399@mintomemorial.nbed.ca
SUMMARY:National Day for Truth and Reconciliation
DESCRIPTION:There will be no school on this day.
URL:https://mintomemorial.nbed.ca/calendar/national-day-for-truth-and-reconciliation/
END:VEVENT
BEGIN:VEVENT
DTSTART;TZID=America/Halifax:20220929T000000
DTEND;TZID=America/Halifax:20220929T235959
DTSTAMP:20260422T231635
CREATED:20220913T133011Z
LAST-MODIFIED:20220913T163559Z
UID:10000302-1664409600-1664495999@mintomemorial.nbed.ca
SUMMARY:Relay
DESCRIPTION:Students and staff will be spending the day taking part in a variety of team-building activities. This is the first big fundraiser of the school year and prior to this day\, students will be looking for sponsors.
URL:https://mintomemorial.nbed.ca/calendar/relay/
END:VEVENT
BEGIN:VEVENT
DTSTART;TZID=America/Halifax:20220928T173000
DTEND;TZID=America/Halifax:20220928T193000
DTSTAMP:20260422T231635
CREATED:20220926T121712Z
LAST-MODIFIED:20220928T104436Z
UID:10000327-1664386200-1664393400@mintomemorial.nbed.ca
SUMMARY:Basketball Open Gym - Cancelled
DESCRIPTION:
URL:https://mintomemorial.nbed.ca/calendar/basketball-open-gym-2/
END:VEVENT
BEGIN:VEVENT
DTSTART;TZID=America/Halifax:20220928T173000
DTEND;TZID=America/Halifax:20220928T190000
DTSTAMP:20260422T231635
CREATED:20220921T213014Z
LAST-MODIFIED:20220921T213018Z
UID:10000255-1664386200-1664391600@mintomemorial.nbed.ca
SUMMARY:Girls Home Soccer Game
DESCRIPTION:vs SCS
URL:https://mintomemorial.nbed.ca/calendar/girls-home-soccer-game-2/
END:VEVENT
BEGIN:VEVENT
DTSTART;TZID=America/Halifax:20220927T173000
DTEND;TZID=America/Halifax:20220927T190000
DTSTAMP:20260422T231635
CREATED:20220921T212825Z
LAST-MODIFIED:20220921T212830Z
UID:10000254-1664299800-1664305200@mintomemorial.nbed.ca
SUMMARY:Boys Home Soccer Game
DESCRIPTION:Home Soccer Game vs BRHS
URL:https://mintomemorial.nbed.ca/calendar/boys-home-soccer-game/
END:VEVENT
BEGIN:VEVENT
DTSTART;TZID=America/Halifax:20220926T163000
DTEND;TZID=America/Halifax:20220926T173000
DTSTAMP:20260422T231635
CREATED:20220923T154538Z
LAST-MODIFIED:20220923T154543Z
UID:10000325-1664209800-1664213400@mintomemorial.nbed.ca
SUMMARY:Boys Soccer Practice
DESCRIPTION:
URL:https://mintomemorial.nbed.ca/calendar/boys-soccer-practice-4/
END:VEVENT
BEGIN:VEVENT
DTSTART;TZID=America/Halifax:20220926T153000
DTEND;TZID=America/Halifax:20220926T163000
DTSTAMP:20260422T231635
CREATED:20220923T115657Z
LAST-MODIFIED:20220923T115704Z
UID:10000320-1664206200-1664209800@mintomemorial.nbed.ca
SUMMARY:Girls Soccer Practice
DESCRIPTION:
URL:https://mintomemorial.nbed.ca/calendar/girls-soccer-practice-4/
END:VEVENT
BEGIN:VEVENT
DTSTART;TZID=America/Halifax:20220924T100000
DTEND;TZID=America/Halifax:20220924T130000
DTSTAMP:20260422T231635
CREATED:20220915T173253Z
LAST-MODIFIED:20220915T173257Z
UID:10000309-1664013600-1664024400@mintomemorial.nbed.ca
SUMMARY:Volunteers Needed: Harvest Fest '22
DESCRIPTION:Students need to contact Katie Morrell for more details.
URL:https://mintomemorial.nbed.ca/calendar/volunteers-needed-harvest-fest-22/
END:VEVENT
BEGIN:VEVENT
DTSTART;TZID=America/Halifax:20220923T000000
DTEND;TZID=America/Halifax:20220923T235959
DTSTAMP:20260422T231635
CREATED:20220920T124822Z
LAST-MODIFIED:20220920T124825Z
UID:10000251-1663891200-1663977599@mintomemorial.nbed.ca
SUMMARY:Half Day
DESCRIPTION:This is a reminder that Friday\, September 23rd\, 2022 is the first Half Day of the school year. Students will have a condensed day of their 5 regular periods and will dismiss at 11:30 am.
URL:https://mintomemorial.nbed.ca/calendar/half-day/
END:VEVENT
BEGIN:VEVENT
DTSTART;TZID=America/Halifax:20220921T190000
DTEND;TZID=America/Halifax:20220921T193000
DTSTAMP:20260422T231635
CREATED:20220920T113953Z
LAST-MODIFIED:20220920T120730Z
UID:10000250-1663786800-1663788600@mintomemorial.nbed.ca
SUMMARY:Boys and Girls Soccer Parent Meeting
DESCRIPTION:This is a mandatory parent/guardian and athletes meeting in the main gym for our boys and girls soccer teams.  We will start together and then the girls team will move to the cafeteria\, and the boys will stay in the gym with their respective coaches.  
URL:https://mintomemorial.nbed.ca/calendar/boys-and-girls-soccer-parent-meeting/
END:VEVENT
END:VCALENDAR